BEGIN:VCALENDAR
VERSION:2.0
PRODID:-//Department of Economics Universidad Carlos III - ECPv6.15.19//NONSGML v1.0//EN
CALSCALE:GREGORIAN
METHOD:PUBLISH
X-ORIGINAL-URL:https://economics.uc3m.es
X-WR-CALDESC:Events for Department of Economics Universidad Carlos III
REFRESH-INTERVAL;VALUE=DURATION:PT1H
X-Robots-Tag:noindex
X-PUBLISHED-TTL:PT1H
BEGIN:VTIMEZONE
TZID:Europe/Helsinki
BEGIN:DAYLIGHT
TZOFFSETFROM:+0200
TZOFFSETTO:+0300
TZNAME:EEST
DTSTART:20210328T010000
END:DAYLIGHT
BEGIN:STANDARD
TZOFFSETFROM:+0300
TZOFFSETTO:+0200
TZNAME:EET
DTSTART:20211031T010000
END:STANDARD
BEGIN:DAYLIGHT
TZOFFSETFROM:+0200
TZOFFSETTO:+0300
TZNAME:EEST
DTSTART:20220327T010000
END:DAYLIGHT
BEGIN:STANDARD
TZOFFSETFROM:+0300
TZOFFSETTO:+0200
TZNAME:EET
DTSTART:20221030T010000
END:STANDARD
BEGIN:DAYLIGHT
TZOFFSETFROM:+0200
TZOFFSETTO:+0300
TZNAME:EEST
DTSTART:20230326T010000
END:DAYLIGHT
BEGIN:STANDARD
TZOFFSETFROM:+0300
TZOFFSETTO:+0200
TZNAME:EET
DTSTART:20231029T010000
END:STANDARD
END:VTIMEZONE
BEGIN:VEVENT
DTSTART;TZID=Europe/Helsinki:20220301T124500
DTEND;TZID=Europe/Helsinki:20220301T140000
DTSTAMP:20260424T144716
CREATED:20220215T141020Z
LAST-MODIFIED:20220215T141147Z
UID:5832-1646138700-1646143200@economics.uc3m.es
SUMMARY:Propaganda\, Alternative Media\, and Accountability in Fragile Democracies
DESCRIPTION:Ken Shotts\n(Stanford GSB)\n  \n“Propaganda\, Alternative Media\, and Accountability in Fragile Democracies” Coauthored with Anqi Li and Davin Raiha.\n  \nFace-to-face seminar – Room 18.0.A13\nOr join the virtual session here
URL:https://economics.uc3m.es/event/ken-shotts/
LOCATION:18.0.A13
CATEGORIES:Microeconomics Seminar
ATTACH;FMTTYPE=image/jpeg:https://economics.uc3m.es/wp-content/uploads/2022/02/SGSB-0511-Ken_ShottsRT.jpg
END:VEVENT
BEGIN:VEVENT
DTSTART;TZID=Europe/Helsinki:20220329T124500
DTEND;TZID=Europe/Helsinki:20220329T140000
DTSTAMP:20260424T144716
CREATED:20220221T130958Z
LAST-MODIFIED:20220323T093334Z
UID:5900-1648557900-1648562400@economics.uc3m.es
SUMMARY:Screening for Consensus: Delegation with Collective Principals
DESCRIPTION:Vincent Anesi\n(University of Luxembourg)\n  \n“Screening for Consensus: Delegation with Collective Principals” (joint with Peter Buisseret)\n  \nFace-to-face seminar – Room 18.0.A13\nOr join the virtual session here
URL:https://economics.uc3m.es/event/vincent-anesi/
LOCATION:18.0.A13
CATEGORIES:Microeconomics Seminar
ATTACH;FMTTYPE=image/jpeg:https://economics.uc3m.es/wp-content/uploads/2022/02/making_elections_work_with_prof_vincent_anesi_medium.jpg
END:VEVENT
END:VCALENDAR