BEGIN:VCALENDAR
VERSION:2.0
PRODID:-//Department of Economics Universidad Carlos III - ECPv6.15.19//NONSGML v1.0//EN
CALSCALE:GREGORIAN
METHOD:PUBLISH
X-WR-CALNAME:Department of Economics Universidad Carlos III
X-ORIGINAL-URL:https://economics.uc3m.es
X-WR-CALDESC:Events for Department of Economics Universidad Carlos III
REFRESH-INTERVAL;VALUE=DURATION:PT1H
X-Robots-Tag:noindex
X-PUBLISHED-TTL:PT1H
BEGIN:VTIMEZONE
TZID:Europe/Helsinki
BEGIN:DAYLIGHT
TZOFFSETFROM:+0200
TZOFFSETTO:+0300
TZNAME:EEST
DTSTART:20230326T010000
END:DAYLIGHT
BEGIN:STANDARD
TZOFFSETFROM:+0300
TZOFFSETTO:+0200
TZNAME:EET
DTSTART:20231029T010000
END:STANDARD
BEGIN:DAYLIGHT
TZOFFSETFROM:+0200
TZOFFSETTO:+0300
TZNAME:EEST
DTSTART:20240331T010000
END:DAYLIGHT
BEGIN:STANDARD
TZOFFSETFROM:+0300
TZOFFSETTO:+0200
TZNAME:EET
DTSTART:20241027T010000
END:STANDARD
BEGIN:DAYLIGHT
TZOFFSETFROM:+0200
TZOFFSETTO:+0300
TZNAME:EEST
DTSTART:20250330T010000
END:DAYLIGHT
BEGIN:STANDARD
TZOFFSETFROM:+0300
TZOFFSETTO:+0200
TZNAME:EET
DTSTART:20251026T010000
END:STANDARD
END:VTIMEZONE
BEGIN:VEVENT
DTSTART;TZID=Europe/Helsinki:20240925T124500
DTEND;TZID=Europe/Helsinki:20240925T140000
DTSTAMP:20260424T232906
CREATED:20240904T094720Z
LAST-MODIFIED:20240911T144054Z
UID:8311-1727268300-1727272800@economics.uc3m.es
SUMMARY:Corrupt Voting: Information and Electoral Accountability\, joint work with David K. Levine (Royal Holloway) and Federico Weinschelbaum (from Universidad Torcuato di Tella\, Argentina)
DESCRIPTION:Felipe Zurita\n(U. Chile)\n  \n“Corrupt Voting: Information and Electoral Accountability\, joint work with David K. Levine (Royal Holloway) and Federico Weinschelbaum (from Universidad Torcuato di Tella\, Argentina)”\n  \nFace-to-face Seminar – Room 15.1.39
URL:https://economics.uc3m.es/event/corrupt-voting-information-and-electoral-accountability-joint-work-with-david-k-levine-royal-holloway-and-federico-weinschelbaum-from-universidad-torcuato-di-tella-argentina/
LOCATION:15.1.39
CATEGORIES:Microeconomics Seminar
ATTACH;FMTTYPE=image/jpeg:https://economics.uc3m.es/wp-content/uploads/2024/09/Felipe-Zurita-e1726065577127.jpg
END:VEVENT
END:VCALENDAR