BEGIN:VCALENDAR
VERSION:2.0
PRODID:-//Department of Economics Universidad Carlos III - ECPv6.15.19//NONSGML v1.0//EN
CALSCALE:GREGORIAN
METHOD:PUBLISH
X-WR-CALNAME:Department of Economics Universidad Carlos III
X-ORIGINAL-URL:https://economics.uc3m.es
X-WR-CALDESC:Events for Department of Economics Universidad Carlos III
REFRESH-INTERVAL;VALUE=DURATION:PT1H
X-Robots-Tag:noindex
X-PUBLISHED-TTL:PT1H
BEGIN:VTIMEZONE
TZID:Europe/Helsinki
BEGIN:DAYLIGHT
TZOFFSETFROM:+0200
TZOFFSETTO:+0300
TZNAME:EEST
DTSTART:20240331T010000
END:DAYLIGHT
BEGIN:STANDARD
TZOFFSETFROM:+0300
TZOFFSETTO:+0200
TZNAME:EET
DTSTART:20241027T010000
END:STANDARD
BEGIN:DAYLIGHT
TZOFFSETFROM:+0200
TZOFFSETTO:+0300
TZNAME:EEST
DTSTART:20250330T010000
END:DAYLIGHT
BEGIN:STANDARD
TZOFFSETFROM:+0300
TZOFFSETTO:+0200
TZNAME:EET
DTSTART:20251026T010000
END:STANDARD
BEGIN:DAYLIGHT
TZOFFSETFROM:+0200
TZOFFSETTO:+0300
TZNAME:EEST
DTSTART:20260329T010000
END:DAYLIGHT
BEGIN:STANDARD
TZOFFSETFROM:+0300
TZOFFSETTO:+0200
TZNAME:EET
DTSTART:20261025T010000
END:STANDARD
END:VTIMEZONE
BEGIN:VEVENT
DTSTART;TZID=Europe/Helsinki:20250403T124500
DTEND;TZID=Europe/Helsinki:20250403T140000
DTSTAMP:20260425T001218
CREATED:20250324T133137Z
LAST-MODIFIED:20250324T133137Z
UID:9059-1743684300-1743688800@economics.uc3m.es
SUMMARY:From buzz to bust: how fake news shapes the business cycle
DESCRIPTION:Fabrice Collard\n(TSE)\n  \n“From buzz to bust: how fake news shapes the business cycle”\n  \nFace-to-face Seminar – Room 15.1.39
URL:https://economics.uc3m.es/event/from-buzz-to-bust-how-fake-news-shapes-the-business-cycle/
LOCATION:15.1.39
CATEGORIES:Macroeconomics Seminar
ATTACH;FMTTYPE=image/jpeg:https://economics.uc3m.es/wp-content/uploads/2025/03/Fabrice-Collard-e1742822884342.jpg
END:VEVENT
BEGIN:VEVENT
DTSTART;TZID=Europe/Helsinki:20250409T124500
DTEND;TZID=Europe/Helsinki:20250409T140000
DTSTAMP:20260425T001218
CREATED:20250331T114323Z
LAST-MODIFIED:20250401T125019Z
UID:9104-1744202700-1744207200@economics.uc3m.es
SUMMARY:Business\, Liquidity\, and Information Cycles
DESCRIPTION:Guillermo Ordoñez\n(U. Penn)\n  \n“Business\, Liquidity\, and Information Cycles”\n  \nFace-to-face Seminar – Room 15.1.39
URL:https://economics.uc3m.es/event/tba-106/
LOCATION:15.1.39
CATEGORIES:Macroeconomics Seminar
ATTACH;FMTTYPE=image/jpeg:https://economics.uc3m.es/wp-content/uploads/2025/03/Guillermo-Ordonez-e1743421288183.jpg
END:VEVENT
BEGIN:VEVENT
DTSTART;TZID=Europe/Helsinki:20250424T124500
DTEND;TZID=Europe/Helsinki:20250424T140000
DTSTAMP:20260425T001218
CREATED:20250402T113646Z
LAST-MODIFIED:20250402T113646Z
UID:9121-1745498700-1745503200@economics.uc3m.es
SUMMARY:The Job Ladder\, Unemployment Risk\, and Incomplete Markets (joint with Piotr Denderski\, Benjamin Schoefer\, Yusuf Mercan)
DESCRIPTION:Alexander Clymo\n(University of Essex)\n  \n“The Job Ladder\, Unemployment Risk\, and Incomplete Markets (joint with Piotr Denderski\, Benjamin Schoefer\, Yusuf Mercan”\n  \nFace-to-face Seminar – Room 15.1.39
URL:https://economics.uc3m.es/event/the-job-ladder-unemployment-risk-and-incomplete-markets-joint-with-piotr-denderski-benjamin-schoefer-yusuf-mercan/
LOCATION:15.1.39
CATEGORIES:Macroeconomics Seminar
ATTACH;FMTTYPE=image/jpeg:https://economics.uc3m.es/wp-content/uploads/2025/04/Alexander-Clymo-e1743593644797.jpg
END:VEVENT
END:VCALENDAR