BEGIN:VCALENDAR
VERSION:2.0
PRODID:-//Department of Economics Universidad Carlos III - ECPv6.15.19//NONSGML v1.0//EN
CALSCALE:GREGORIAN
METHOD:PUBLISH
X-ORIGINAL-URL:https://economics.uc3m.es
X-WR-CALDESC:Events for Department of Economics Universidad Carlos III
REFRESH-INTERVAL;VALUE=DURATION:PT1H
X-Robots-Tag:noindex
X-PUBLISHED-TTL:PT1H
BEGIN:VTIMEZONE
TZID:Europe/Helsinki
BEGIN:DAYLIGHT
TZOFFSETFROM:+0200
TZOFFSETTO:+0300
TZNAME:EEST
DTSTART:20210328T010000
END:DAYLIGHT
BEGIN:STANDARD
TZOFFSETFROM:+0300
TZOFFSETTO:+0200
TZNAME:EET
DTSTART:20211031T010000
END:STANDARD
BEGIN:DAYLIGHT
TZOFFSETFROM:+0200
TZOFFSETTO:+0300
TZNAME:EEST
DTSTART:20220327T010000
END:DAYLIGHT
BEGIN:STANDARD
TZOFFSETFROM:+0300
TZOFFSETTO:+0200
TZNAME:EET
DTSTART:20221030T010000
END:STANDARD
BEGIN:DAYLIGHT
TZOFFSETFROM:+0200
TZOFFSETTO:+0300
TZNAME:EEST
DTSTART:20230326T010000
END:DAYLIGHT
BEGIN:STANDARD
TZOFFSETFROM:+0300
TZOFFSETTO:+0200
TZNAME:EET
DTSTART:20231029T010000
END:STANDARD
END:VTIMEZONE
BEGIN:VEVENT
DTSTART;TZID=Europe/Helsinki:20220303T124500
DTEND;TZID=Europe/Helsinki:20220303T140000
DTSTAMP:20260424T203537
CREATED:20220216T125927Z
LAST-MODIFIED:20220228T092944Z
UID:5842-1646311500-1646316000@economics.uc3m.es
SUMMARY:Product Reallocation and Market Concentration
DESCRIPTION:Liangjie Wu\n(Einaudi Institute for Economics and Finance)\n  \n“Product Reallocation and Market Concentration”\n  \nFace-to-face seminar – Room 18.0.A13\nOr join the virtual session here
URL:https://economics.uc3m.es/event/liangjie-wu/
LOCATION:18.0.A13
CATEGORIES:Macroeconomics Seminar
ATTACH;FMTTYPE=image/png:https://economics.uc3m.es/wp-content/uploads/2022/02/WU-Liangjie-DSCN7361.png
END:VEVENT
BEGIN:VEVENT
DTSTART;TZID=Europe/Helsinki:20220310T124500
DTEND;TZID=Europe/Helsinki:20220310T140000
DTSTAMP:20260424T203537
CREATED:20220216T130943Z
LAST-MODIFIED:20220303T120954Z
UID:5850-1646916300-1646920800@economics.uc3m.es
SUMMARY:Zero-hours contracts in a frictional labour market
DESCRIPTION:Helen Turon\n(University of Bristol)\n  \n“Zero-hours contracts in a frictional labour market” joint with Juan José Dolado and Etienne Lalé\n  \nFace-to-face seminar – Room 18.0.A13\nOr join the virtual session here
URL:https://economics.uc3m.es/event/helen-turon/
LOCATION:18.0.A13
CATEGORIES:Macroeconomics Seminar
ATTACH;FMTTYPE=image/jpeg:https://economics.uc3m.es/wp-content/uploads/2022/02/ht-e1645013374493.jpg
END:VEVENT
BEGIN:VEVENT
DTSTART;TZID=Europe/Helsinki:20220317T124500
DTEND;TZID=Europe/Helsinki:20220317T141500
DTSTAMP:20260424T203537
CREATED:20220216T134318Z
LAST-MODIFIED:20220322T125945Z
UID:5858-1647521100-1647526500@economics.uc3m.es
SUMMARY:Are Managers paid for Market Power?
DESCRIPTION:  \nJan Eeckhout\n(UPF)\n  \n“Are Managers paid for Market Power?”\n  \nFace-to-face seminar – Room 18.0.A13\nOr join the virtual session here\n 
URL:https://economics.uc3m.es/event/jan-eeckhout/
LOCATION:18.0.A13
CATEGORIES:Macroeconomics Seminar
ATTACH;FMTTYPE=image/jpeg:https://economics.uc3m.es/wp-content/uploads/2022/02/jeeckhout_0.jpg
END:VEVENT
BEGIN:VEVENT
DTSTART;TZID=Europe/Helsinki:20220324T124500
DTEND;TZID=Europe/Helsinki:20220324T140000
DTSTAMP:20260424T203537
CREATED:20220317T092216Z
LAST-MODIFIED:20220317T092308Z
UID:5941-1648125900-1648130400@economics.uc3m.es
SUMMARY:Sovereign debt repatriation during crises
DESCRIPTION:Laura Sunder-Plassmann\n(University of Copenhagen)\n  \n“Sovereign debt repatriation during crises”\n  \nFace-to-face seminar – Room 18.0.A13\nOr join the virtual session here
URL:https://economics.uc3m.es/event/laura-sunder-plassmann/
LOCATION:18.0.A13
CATEGORIES:Macroeconomics Seminar
ATTACH;FMTTYPE=image/jpeg:https://economics.uc3m.es/wp-content/uploads/2022/02/IMG-6579-e1645436629494.jpg
END:VEVENT
BEGIN:VEVENT
DTSTART;TZID=Europe/Helsinki:20220331T124500
DTEND;TZID=Europe/Helsinki:20220331T140000
DTSTAMP:20260424T203537
CREATED:20220307T135110Z
LAST-MODIFIED:20220322T092814Z
UID:5931-1648730700-1648735200@economics.uc3m.es
SUMMARY:There's More to Marriage than Love: The Effect of Legal Status and Cultural Distance on Intermarriages and Separations
DESCRIPTION:Jérôme Adda\n(Bocconi)\n  \n“There’s More to Marriage than Love: The Effect of Legal Status and Cultural Distance on Intermarriages and Separations”\n  \nFace-to-face seminar – Room 18.0.A13\nOr join the virtual session here
URL:https://economics.uc3m.es/event/jerome-adda/
LOCATION:18.0.A13
CATEGORIES:Macroeconomics Seminar
ATTACH;FMTTYPE=image/jpeg:https://economics.uc3m.es/wp-content/uploads/2022/03/jerome_adda_cv.jpg
END:VEVENT
END:VCALENDAR