BEGIN:VCALENDAR
VERSION:2.0
PRODID:-//Department of Economics Universidad Carlos III - ECPv6.15.19//NONSGML v1.0//EN
CALSCALE:GREGORIAN
METHOD:PUBLISH
X-ORIGINAL-URL:https://economics.uc3m.es
X-WR-CALDESC:Events for Department of Economics Universidad Carlos III
REFRESH-INTERVAL;VALUE=DURATION:PT1H
X-Robots-Tag:noindex
X-PUBLISHED-TTL:PT1H
BEGIN:VTIMEZONE
TZID:Europe/Helsinki
BEGIN:DAYLIGHT
TZOFFSETFROM:+0200
TZOFFSETTO:+0300
TZNAME:EEST
DTSTART:20240331T010000
END:DAYLIGHT
BEGIN:STANDARD
TZOFFSETFROM:+0300
TZOFFSETTO:+0200
TZNAME:EET
DTSTART:20241027T010000
END:STANDARD
BEGIN:DAYLIGHT
TZOFFSETFROM:+0200
TZOFFSETTO:+0300
TZNAME:EEST
DTSTART:20250330T010000
END:DAYLIGHT
BEGIN:STANDARD
TZOFFSETFROM:+0300
TZOFFSETTO:+0200
TZNAME:EET
DTSTART:20251026T010000
END:STANDARD
BEGIN:DAYLIGHT
TZOFFSETFROM:+0200
TZOFFSETTO:+0300
TZNAME:EEST
DTSTART:20260329T010000
END:DAYLIGHT
BEGIN:STANDARD
TZOFFSETFROM:+0300
TZOFFSETTO:+0200
TZNAME:EET
DTSTART:20261025T010000
END:STANDARD
END:VTIMEZONE
BEGIN:VEVENT
DTSTART;TZID=Europe/Helsinki:20250203T124500
DTEND;TZID=Europe/Helsinki:20250203T140000
DTSTAMP:20260424T185050
CREATED:20250113T134402Z
LAST-MODIFIED:20250129T084619Z
UID:8827-1738586700-1738591200@economics.uc3m.es
SUMMARY:Dinner at Your Door: How Delivery Platforms Affect Workers and Firms
DESCRIPTION:Pascuel Plotkin\n(UBC)\n  \n“Dinner at Your Door: How Delivery Platforms Affect Workers and Firms”\n  \nRoom 15.1.39
URL:https://economics.uc3m.es/event/dinner-at-your-door-how-delivery-platforms-affect-workers-and-firms/
LOCATION:15.1.39
CATEGORIES:Job Market Seminar
ATTACH;FMTTYPE=image/jpeg:https://economics.uc3m.es/wp-content/uploads/2025/01/Pascuel-Plotkin-e1738140364217.jpg
END:VEVENT
BEGIN:VEVENT
DTSTART;TZID=Europe/Helsinki:20250205T124500
DTEND;TZID=Europe/Helsinki:20250205T140000
DTSTAMP:20260424T185050
CREATED:20250123T105420Z
LAST-MODIFIED:20250123T105420Z
UID:8855-1738759500-1738764000@economics.uc3m.es
SUMMARY:Correcting Market Power with Taxation: A Sufficient Statistic Approach
DESCRIPTION:Dajana Xhani\n(Tilburg University)\n  \n“Correcting Market Power with Taxation: A Sufficient Statistic Approach”\n  \nRoom 15.1.39
URL:https://economics.uc3m.es/event/correcting-market-power-with-taxation-a-sufficient-statistic-approach/
LOCATION:15.1.39
CATEGORIES:Job Market Seminar
ATTACH;FMTTYPE=image/jpeg:https://economics.uc3m.es/wp-content/uploads/2025/01/Dajana-Xhani-e1737629614860.jpg
END:VEVENT
BEGIN:VEVENT
DTSTART;TZID=Europe/Helsinki:20250211T124500
DTEND;TZID=Europe/Helsinki:20250211T140000
DTSTAMP:20260424T185050
CREATED:20250124T120757Z
LAST-MODIFIED:20250124T121449Z
UID:8862-1739277900-1739282400@economics.uc3m.es
SUMMARY:Complete Contracts under Incomplete Information
DESCRIPTION:Qianjun Lyu\n(U. Bonn)\n  \n“Complete Contracts under Incomplete Information”\n  \nRoom 15.1.39
URL:https://economics.uc3m.es/event/complete-contracts-under-incomplete-information/
LOCATION:15.1.39
CATEGORIES:Job Market Seminar
ATTACH;FMTTYPE=image/jpeg:https://economics.uc3m.es/wp-content/uploads/2025/01/Qianjun-Lyu-e1737720850569.jpg
END:VEVENT
BEGIN:VEVENT
DTSTART;TZID=Europe/Helsinki:20250212T124500
DTEND;TZID=Europe/Helsinki:20250212T140000
DTSTAMP:20260424T185050
CREATED:20250113T135342Z
LAST-MODIFIED:20250113T135342Z
UID:8833-1739364300-1739368800@economics.uc3m.es
SUMMARY:Bundled Loyalty Discounts in Healthcare: Evidence from Physician-Administered Vaccines
DESCRIPTION:Chiara Gardenghi\n(NYU)\n  \n“Bundled Loyalty Discounts in Healthcare: Evidence from Physician-Administered Vaccines”\n  \nRoom 15.1.39
URL:https://economics.uc3m.es/event/bundled-loyalty-discounts-in-healthcare-evidence-from-physician-administered-vaccines/
LOCATION:15.1.39
CATEGORIES:Job Market Seminar
ATTACH;FMTTYPE=image/jpeg:https://economics.uc3m.es/wp-content/uploads/2025/01/Chiara-Gardenghi-e1736776381823.jpg
END:VEVENT
END:VCALENDAR