BEGIN:VCALENDAR
VERSION:2.0
PRODID:-//Department of Economics Universidad Carlos III - ECPv6.15.19//NONSGML v1.0//EN
CALSCALE:GREGORIAN
METHOD:PUBLISH
X-ORIGINAL-URL:https://economics.uc3m.es
X-WR-CALDESC:Events for Department of Economics Universidad Carlos III
REFRESH-INTERVAL;VALUE=DURATION:PT1H
X-Robots-Tag:noindex
X-PUBLISHED-TTL:PT1H
BEGIN:VTIMEZONE
TZID:Europe/Helsinki
BEGIN:DAYLIGHT
TZOFFSETFROM:+0200
TZOFFSETTO:+0300
TZNAME:EEST
DTSTART:20250330T010000
END:DAYLIGHT
BEGIN:STANDARD
TZOFFSETFROM:+0300
TZOFFSETTO:+0200
TZNAME:EET
DTSTART:20251026T010000
END:STANDARD
BEGIN:DAYLIGHT
TZOFFSETFROM:+0200
TZOFFSETTO:+0300
TZNAME:EEST
DTSTART:20260329T010000
END:DAYLIGHT
BEGIN:STANDARD
TZOFFSETFROM:+0300
TZOFFSETTO:+0200
TZNAME:EET
DTSTART:20261025T010000
END:STANDARD
BEGIN:DAYLIGHT
TZOFFSETFROM:+0200
TZOFFSETTO:+0300
TZNAME:EEST
DTSTART:20270328T010000
END:DAYLIGHT
BEGIN:STANDARD
TZOFFSETFROM:+0300
TZOFFSETTO:+0200
TZNAME:EET
DTSTART:20271031T010000
END:STANDARD
END:VTIMEZONE
BEGIN:VEVENT
DTSTART;TZID=Europe/Helsinki:20260108T124500
DTEND;TZID=Europe/Helsinki:20260108T140000
DTSTAMP:20260425T133302
CREATED:20260108T111007Z
LAST-MODIFIED:20260108T111007Z
UID:9953-1767876300-1767880800@economics.uc3m.es
SUMMARY:Credit Constraints\, Learning\, and Spatial Misallocation
DESCRIPTION:Elena Aguilar\n(Princeton University)\n  \n“Credit Constraints\, Learning\, and Spatial Misallocation”\n  \nRoom 15.1.39
URL:https://economics.uc3m.es/event/credit-constraints-learning-and-spatial-misallocation/
LOCATION:15.1.39
CATEGORIES:Job Market Seminar
ATTACH;FMTTYPE=image/jpeg:https://economics.uc3m.es/wp-content/uploads/2026/01/aguilar_picture_light-scaled-e1767870535218.jpg
END:VEVENT
BEGIN:VEVENT
DTSTART;TZID=Europe/Helsinki:20260109T124500
DTEND;TZID=Europe/Helsinki:20260109T140000
DTSTAMP:20260425T133302
CREATED:20260112T144729Z
LAST-MODIFIED:20260112T144729Z
UID:10011-1767962700-1767967200@economics.uc3m.es
SUMMARY:Cross-sectional Identification with Heterogeneous Exposure to General Equilibrium Effects
DESCRIPTION:Paula Donaldson\n(UCSD)\n  \n“Cross-sectional Identification with Heterogeneous Exposure to General Equilibrium Effects”\n  \nRoom 15.1.39
URL:https://economics.uc3m.es/event/cross-sectional-identification-with-heterogeneous-exposure-to-general-equilibrium-effects/
LOCATION:15.1.39
CATEGORIES:Job Market Seminar
ATTACH;FMTTYPE=image/jpeg:https://economics.uc3m.es/wp-content/uploads/2026/01/Paula-Donaldson-scaled-e1768229163886.jpg
END:VEVENT
BEGIN:VEVENT
DTSTART;TZID=Europe/Helsinki:20260112T124500
DTEND;TZID=Europe/Helsinki:20260112T140000
DTSTAMP:20260425T133302
CREATED:20251218T160304Z
LAST-MODIFIED:20260108T103143Z
UID:9915-1768221900-1768226400@economics.uc3m.es
SUMMARY:Debt Without Investment
DESCRIPTION:Marta Guasch Rusiñol\n(LSE)\n  \n“Debt Without Investment”\n  \nRoom 15.1.39
URL:https://economics.uc3m.es/event/tba-174/
LOCATION:15.1.39
CATEGORIES:Job Market Seminar
ATTACH;FMTTYPE=image/jpeg:https://economics.uc3m.es/wp-content/uploads/2025/12/descarga-e1766073696393.jpg
END:VEVENT
BEGIN:VEVENT
DTSTART;TZID=Europe/Helsinki:20260113T124500
DTEND;TZID=Europe/Helsinki:20260113T140000
DTSTAMP:20260425T133302
CREATED:20251219T104521Z
LAST-MODIFIED:20260112T144956Z
UID:9940-1768308300-1768312800@economics.uc3m.es
SUMMARY:Supernatural Beliefs about Illness and the Use of Modern Medicine: Evidence from the DR Congo
DESCRIPTION:Clara Sievert\n(CERGE-EI)\n  \n“Supernatural Beliefs about Illness and the Use of Modern Medicine: Evidence from the DR Congo”\n  \nRoom 15.1.39
URL:https://economics.uc3m.es/event/tba-177/
LOCATION:15.1.39
CATEGORIES:Job Market Seminar
ATTACH;FMTTYPE=image/jpeg:https://economics.uc3m.es/wp-content/uploads/2025/12/Clara-Sievert-e1766141004579.jpg
END:VEVENT
BEGIN:VEVENT
DTSTART;TZID=Europe/Helsinki:20260115T124500
DTEND;TZID=Europe/Helsinki:20260115T140000
DTSTAMP:20260425T133302
CREATED:20260108T130025Z
LAST-MODIFIED:20260112T145110Z
UID:9961-1768481100-1768485600@economics.uc3m.es
SUMMARY:Cities with Benefits
DESCRIPTION:Martin Wiegand\n(UPF)\n  \n“Cities with Benefits”\n  \nRoom 15.1.39
URL:https://economics.uc3m.es/event/cities-with-benefits/
LOCATION:15.1.39
CATEGORIES:Job Market Seminar
ATTACH;FMTTYPE=image/jpeg:https://economics.uc3m.es/wp-content/uploads/2026/01/jmphoto_wiegand-scaled-e1767877088968.jpg
END:VEVENT
BEGIN:VEVENT
DTSTART;TZID=Europe/Helsinki:20260116T124500
DTEND;TZID=Europe/Helsinki:20260116T140000
DTSTAMP:20260425T133302
CREATED:20251218T160827Z
LAST-MODIFIED:20260112T145232Z
UID:9921-1768567500-1768572000@economics.uc3m.es
SUMMARY:Home Production in the City
DESCRIPTION:Caterina Soto – Vieira\n(LSE)\n  \n“Home Production in the City”\n  \nFace-to-face Seminar – Room 15.1.39
URL:https://economics.uc3m.es/event/tba-175/
LOCATION:15.1.39
CATEGORIES:Job Market Seminar
ATTACH;FMTTYPE=image/jpeg:https://economics.uc3m.es/wp-content/uploads/2025/12/descarga-1-e1766074023483.jpg
END:VEVENT
BEGIN:VEVENT
DTSTART;TZID=Europe/Helsinki:20260119T124500
DTEND;TZID=Europe/Helsinki:20260119T140000
DTSTAMP:20260425T133302
CREATED:20251218T161741Z
LAST-MODIFIED:20260108T105804Z
UID:9927-1768826700-1768831200@economics.uc3m.es
SUMMARY:Semiparametrics via parametrics and contiguity
DESCRIPTION:Adam Lee\n(BI Norwegian )\n\n  \n“Semiparametrics via parametrics and contiguity”\nRoom 15.1.39
URL:https://economics.uc3m.es/event/tba-176/
LOCATION:15.1.39
CATEGORIES:Job Market Seminar
ATTACH;FMTTYPE=image/jpeg:https://economics.uc3m.es/wp-content/uploads/2025/12/Adam-Lee-e1737025860329.jpg
END:VEVENT
BEGIN:VEVENT
DTSTART;TZID=Europe/Helsinki:20260120T124500
DTEND;TZID=Europe/Helsinki:20260120T140000
DTSTAMP:20260425T133302
CREATED:20251219T100155Z
LAST-MODIFIED:20251219T100155Z
UID:9934-1768913100-1768917600@economics.uc3m.es
SUMMARY:RCTs\, Awareness\, and Assignment Effects
DESCRIPTION:Florencia Hnilo\n(Stanford University)\n  \n“RCTs\, Awareness\, and Assignment Effects”\n  \nRoom 15.1.39
URL:https://economics.uc3m.es/event/rcts-awareness-and-assignment-effects/
LOCATION:15.1.39
CATEGORIES:Job Market Seminar
ATTACH;FMTTYPE=image/jpeg:https://economics.uc3m.es/wp-content/uploads/2025/12/Florencia-Hnilo-e1766138409181.jpg
END:VEVENT
BEGIN:VEVENT
DTSTART;TZID=Europe/Helsinki:20260121T124500
DTEND;TZID=Europe/Helsinki:20260121T140000
DTSTAMP:20260425T133302
CREATED:20260112T114114Z
LAST-MODIFIED:20260112T114114Z
UID:9967-1768999500-1769004000@economics.uc3m.es
SUMMARY:The Social Consequences of Technological Change: Evidence from U.S. Electrification and Immigrant Labor
DESCRIPTION:Sara Benetti\n(University of British Columbia)\n  \n“The Social Consequences of Technological Change: Evidence from U.S. Electrification and Immigrant Labor”\n  \nRoom 15.1.39
URL:https://economics.uc3m.es/event/the-social-consequences-of-technological-change-evidence-from-u-s-electrification-and-immigrant-labor/
LOCATION:15.1.39
CATEGORIES:Job Market Seminar
ATTACH;FMTTYPE=image/jpeg:https://economics.uc3m.es/wp-content/uploads/2026/01/Sara-Benetti-Cespedes-e1768217822757.jpg
END:VEVENT
BEGIN:VEVENT
DTSTART;TZID=Europe/Helsinki:20260122T124500
DTEND;TZID=Europe/Helsinki:20260122T140000
DTSTAMP:20260425T133302
CREATED:20260112T135200Z
LAST-MODIFIED:20260112T135200Z
UID:9973-1769085900-1769090400@economics.uc3m.es
SUMMARY:Ports of Power
DESCRIPTION:Katerina Nikalexi\n(London Business School)\n  \n“Ports of Power”\n  \nRoom 15.1.39
URL:https://economics.uc3m.es/event/ports-of-power/
LOCATION:15.1.39
CATEGORIES:Job Market Seminar
ATTACH;FMTTYPE=image/jpeg:https://economics.uc3m.es/wp-content/uploads/2026/01/Katherina-Nikalexi.jpg
END:VEVENT
BEGIN:VEVENT
DTSTART;TZID=Europe/Helsinki:20260126T124500
DTEND;TZID=Europe/Helsinki:20260126T140000
DTSTAMP:20260425T133302
CREATED:20260112T140244Z
LAST-MODIFIED:20260112T140244Z
UID:9978-1769431500-1769436000@economics.uc3m.es
SUMMARY:Coarse Agents and Intergroup Phenomena
DESCRIPTION:Giacomo Weber\n(Bocconi University)\n  \n“Coarse Agents and Intergroup Phenomena”\n  \nRoom 15.1.39
URL:https://economics.uc3m.es/event/coarse-agents-and-intergroup-phenomena/
LOCATION:15.1.39
CATEGORIES:Job Market Seminar
ATTACH;FMTTYPE=image/jpeg:https://economics.uc3m.es/wp-content/uploads/2026/01/Giacomo-Weber-e1768226250171.jpg
END:VEVENT
BEGIN:VEVENT
DTSTART;TZID=Europe/Helsinki:20260127T124500
DTEND;TZID=Europe/Helsinki:20260127T140000
DTSTAMP:20260425T133302
CREATED:20260112T141508Z
LAST-MODIFIED:20260112T141508Z
UID:9985-1769517900-1769522400@economics.uc3m.es
SUMMARY:Competition and Welfare in Airport Slot Allocation
DESCRIPTION:Sebastián Bauer\n(Stanford)\n  \n“Competition and Welfare in Airport Slot Allocation”\n  \nRoom 15.1.39
URL:https://economics.uc3m.es/event/competition-and-welfare-in-airport-slot-allocation/
LOCATION:15.1.39
CATEGORIES:Job Market Seminar
ATTACH;FMTTYPE=image/jpeg:https://economics.uc3m.es/wp-content/uploads/2026/01/Sebastian-Bauer-e1768227153236.jpg
END:VEVENT
BEGIN:VEVENT
DTSTART;TZID=Europe/Helsinki:20260128T124500
DTEND;TZID=Europe/Helsinki:20260128T140000
DTSTAMP:20260425T133302
CREATED:20260112T142558Z
LAST-MODIFIED:20260112T142558Z
UID:9991-1769604300-1769608800@economics.uc3m.es
SUMMARY:Profit-Sharing\, Wages\, and Worker Compensation: Evidence from Mexico
DESCRIPTION:Agustina Colonna\n(U. Zurich)\n  \n“Profit-Sharing\, Wages\, and Worker Compensation: Evidence from Mexico”\n  \nRoom 15.1.39
URL:https://economics.uc3m.es/event/profit-sharing-wages-and-worker-compensation-evidence-from-mexico/
LOCATION:15.1.39
CATEGORIES:Job Market Seminar
ATTACH;FMTTYPE=image/jpeg:https://economics.uc3m.es/wp-content/uploads/2026/01/Agustina-Colonna-e1768227801607.jpg
END:VEVENT
BEGIN:VEVENT
DTSTART;TZID=Europe/Helsinki:20260129T124500
DTEND;TZID=Europe/Helsinki:20260129T140000
DTSTAMP:20260425T133302
CREATED:20260112T143316Z
LAST-MODIFIED:20260112T143316Z
UID:9997-1769690700-1769695200@economics.uc3m.es
SUMMARY:Consumer Welfare and Misallocation in Panic Buying of Gasoline (joint with Kate Reinmuth)
DESCRIPTION:Katja Hofmann \n(Stanford)\n  \n“Consumer Welfare and Misallocation in Panic Buying of Gasoline (joint with Kate Reinmuth)”\n  \nRoom 15.1.39
URL:https://economics.uc3m.es/event/consumer-welfare-and-misallocation-in-panic-buying-of-gasoline-joint-with-kate-reinmuth/
LOCATION:15.1.39
CATEGORIES:Job Market Seminar
ATTACH;FMTTYPE=image/jpeg:https://economics.uc3m.es/wp-content/uploads/2026/01/KatjaHofmannHeadshots-5-e1768228252600.jpg
END:VEVENT
BEGIN:VEVENT
DTSTART;TZID=Europe/Helsinki:20260130T124500
DTEND;TZID=Europe/Helsinki:20260130T140000
DTSTAMP:20260425T133302
CREATED:20260112T143908Z
LAST-MODIFIED:20260112T143908Z
UID:10003-1769777100-1769781600@economics.uc3m.es
SUMMARY:Communicating with Data-Generating Processes: An Experimental Analysis\, with Clément Herman
DESCRIPTION:Agata Farina\n(NYU)\n  \n“Communicating with Data-Generating Processes: An Experimental Analysis\, with Clément Herman”\n  \nRoom 15.1.39
URL:https://economics.uc3m.es/event/communicating-with-data-generating-processes-an-experimental-analysis-with-clement-herman/
LOCATION:15.1.39
CATEGORIES:Job Market Seminar
ATTACH;FMTTYPE=image/jpeg:https://economics.uc3m.es/wp-content/uploads/2026/01/Agata-Farina-e1768228638836.jpg
END:VEVENT
END:VCALENDAR