BEGIN:VCALENDAR
VERSION:2.0
PRODID:-//Department of Economics Universidad Carlos III - ECPv6.15.19//NONSGML v1.0//EN
CALSCALE:GREGORIAN
METHOD:PUBLISH
X-WR-CALNAME:Department of Economics Universidad Carlos III
X-ORIGINAL-URL:https://economics.uc3m.es
X-WR-CALDESC:Events for Department of Economics Universidad Carlos III
REFRESH-INTERVAL;VALUE=DURATION:PT1H
X-Robots-Tag:noindex
X-PUBLISHED-TTL:PT1H
BEGIN:VTIMEZONE
TZID:Europe/Helsinki
BEGIN:DAYLIGHT
TZOFFSETFROM:+0200
TZOFFSETTO:+0300
TZNAME:EEST
DTSTART:20240331T010000
END:DAYLIGHT
BEGIN:STANDARD
TZOFFSETFROM:+0300
TZOFFSETTO:+0200
TZNAME:EET
DTSTART:20241027T010000
END:STANDARD
BEGIN:DAYLIGHT
TZOFFSETFROM:+0200
TZOFFSETTO:+0300
TZNAME:EEST
DTSTART:20250330T010000
END:DAYLIGHT
BEGIN:STANDARD
TZOFFSETFROM:+0300
TZOFFSETTO:+0200
TZNAME:EET
DTSTART:20251026T010000
END:STANDARD
BEGIN:DAYLIGHT
TZOFFSETFROM:+0200
TZOFFSETTO:+0300
TZNAME:EEST
DTSTART:20260329T010000
END:DAYLIGHT
BEGIN:STANDARD
TZOFFSETFROM:+0300
TZOFFSETTO:+0200
TZNAME:EET
DTSTART:20261025T010000
END:STANDARD
END:VTIMEZONE
BEGIN:VEVENT
DTSTART;TZID=Europe/Helsinki:20250109T124500
DTEND;TZID=Europe/Helsinki:20250109T140000
DTSTAMP:20260422T231826
CREATED:20250108T124318Z
LAST-MODIFIED:20250108T124318Z
UID:8744-1736426700-1736431200@economics.uc3m.es
SUMMARY:Estimation uncertainty in repeated finite populations
DESCRIPTION:Víctor Sancibrián\n(CEMFI)\n  \n“Estimation uncertainty in repeated finite populations”\n  \nRoom 15.1.39
URL:https://economics.uc3m.es/event/estimation-uncertainty-in-repeated-finite-populations/
LOCATION:15.1.39
CATEGORIES:Job Market Seminar
ATTACH;FMTTYPE=image/jpeg:https://economics.uc3m.es/wp-content/uploads/2025/01/sancibrian-photo-JM-1-scaled-e1736340047751.jpg
END:VEVENT
BEGIN:VEVENT
DTSTART;TZID=Europe/Helsinki:20250110T124500
DTEND;TZID=Europe/Helsinki:20250110T140000
DTSTAMP:20260422T231826
CREATED:20250108T124852Z
LAST-MODIFIED:20250108T124852Z
UID:8750-1736513100-1736517600@economics.uc3m.es
SUMMARY:Monitoring Joint Tail Risks: An Application to Growth and Inflation
DESCRIPTION:Jordi Llorens-Terrazas\n(University of Surrey)\n  \n“Monitoring Joint Tail Risks: An Application to Growth and Inflation”\n  \nRoom 15.1.39
URL:https://economics.uc3m.es/event/monitoring-joint-tail-risks-an-application-to-growth-and-inflation/
LOCATION:15.1.39
CATEGORIES:Job Market Seminar
ATTACH;FMTTYPE=image/jpeg:https://economics.uc3m.es/wp-content/uploads/2025/01/jordi-llorens-terrazas-photo-lowres-e1736340446852.jpg
END:VEVENT
BEGIN:VEVENT
DTSTART;TZID=Europe/Helsinki:20250113T124500
DTEND;TZID=Europe/Helsinki:20250113T140000
DTSTAMP:20260422T231826
CREATED:20250110T123717Z
LAST-MODIFIED:20250113T084636Z
UID:8761-1736772300-1736776800@economics.uc3m.es
SUMMARY:Labor Market Power and Collusive Behavior
DESCRIPTION:Michele Bisceglia\n(TSE)\n  \n“Labor Market Power and Collusive Behavior”\n  \nRoom 15.1.39
URL:https://economics.uc3m.es/event/labor-market-power-and-collusive-behavior/
LOCATION:15.1.39
CATEGORIES:Job Market Seminar
ATTACH;FMTTYPE=image/jpeg:https://economics.uc3m.es/wp-content/uploads/2025/01/Michele-Bisceglia-e1736512540643.jpg
END:VEVENT
BEGIN:VEVENT
DTSTART;TZID=Europe/Helsinki:20250115T124500
DTEND;TZID=Europe/Helsinki:20250115T140000
DTSTAMP:20260422T231826
CREATED:20250110T124321Z
LAST-MODIFIED:20250110T124321Z
UID:8769-1736945100-1736949600@economics.uc3m.es
SUMMARY:State-dependent pricing and cost-push inflation in a production network economy
DESCRIPTION:Anastasiia Antonova\n(Aix-Marseille School of Economics)\n  \n“State-dependent pricing and cost-push inflation in a production network economy”\n  \nRoom 15.1.39
URL:https://economics.uc3m.es/event/state-dependent-pricing-and-cost-push-inflation-in-a-production-network-economy/
LOCATION:15.1.39
CATEGORIES:Job Market Seminar
ATTACH;FMTTYPE=image/jpeg:https://economics.uc3m.es/wp-content/uploads/2025/01/Anastasiia-Antonova-e1736512916488.jpg
END:VEVENT
BEGIN:VEVENT
DTSTART;TZID=Europe/Helsinki:20250117T124500
DTEND;TZID=Europe/Helsinki:20250117T140000
DTSTAMP:20260422T231826
CREATED:20250110T125229Z
LAST-MODIFIED:20250113T084705Z
UID:8775-1737117900-1737122400@economics.uc3m.es
SUMMARY:Cash transfers and women's labour supply: evidence from the world's largest programme
DESCRIPTION:Gabriel Leite-Mariante\n(LSE)\n  \n“Cash transfers and women’s labour supply: evidence from the world’s largest programme”\n  \nRoom 15.1.39
URL:https://economics.uc3m.es/event/cash-transfers-and-womens-labour-supply-evidence-from-the-worlds-largest-programme/
LOCATION:15.1.39
CATEGORIES:Job Market Seminar
ATTACH;FMTTYPE=image/jpeg:https://economics.uc3m.es/wp-content/uploads/2025/01/gabriel-leite-mariante-e1736513443213.jpg
END:VEVENT
BEGIN:VEVENT
DTSTART;TZID=Europe/Helsinki:20250120T124500
DTEND;TZID=Europe/Helsinki:20250120T140000
DTSTAMP:20260422T231826
CREATED:20250113T122756Z
LAST-MODIFIED:20250113T122756Z
UID:8783-1737377100-1737381600@economics.uc3m.es
SUMMARY:Equilibrium Effects in Complementary Markets: Electric Vehicle Adoption and Electricity Pricing
DESCRIPTION:Kevin Remmy\n(U. Mannheim)\n  \n“Equilibrium Effects in Complementary Markets: Electric Vehicle Adoption and Electricity Pricing”\n  \nRoom 15.1.39
URL:https://economics.uc3m.es/event/equilibrium-effects-in-complementary-markets-electric-vehicle-adoption-and-electricity-pricing/
LOCATION:15.1.39
CATEGORIES:Job Market Seminar
ATTACH;FMTTYPE=image/webp:https://economics.uc3m.es/wp-content/uploads/2025/01/Kevin-Remmy-e1736771207483.webp
END:VEVENT
BEGIN:VEVENT
DTSTART;TZID=Europe/Helsinki:20250121T124500
DTEND;TZID=Europe/Helsinki:20250121T140000
DTSTAMP:20260422T231826
CREATED:20250113T123833Z
LAST-MODIFIED:20250113T123833Z
UID:8789-1737463500-1737468000@economics.uc3m.es
SUMMARY:Industrial policy in endogenous production networks
DESCRIPTION:Come Poirier\n(Paris Dauphine-PSL University)\n  \n“Industrial policy in endogenous production networks”\n  \nRoom 15.1.39
URL:https://economics.uc3m.es/event/industrial-policy-in-endogenous-production-networks/
LOCATION:15.1.39
CATEGORIES:Job Market Seminar
ATTACH;FMTTYPE=image/png:https://economics.uc3m.es/wp-content/uploads/2025/01/Come-Poirier-e1736771871370.png
END:VEVENT
BEGIN:VEVENT
DTSTART;TZID=Europe/Helsinki:20250123T124500
DTEND;TZID=Europe/Helsinki:20250123T140000
DTSTAMP:20260422T231826
CREATED:20250116T112803Z
LAST-MODIFIED:20250116T112803Z
UID:8840-1737636300-1737640800@economics.uc3m.es
SUMMARY:Locally Regular and Efficient Tests in Non-Regular Semiparametric Models
DESCRIPTION:Adam Lee\n(BI Norwegian Business School)\n  \n“Locally Regular and Efficient Tests in Non-Regular Semiparametric Models”\n  \nRoom 15.1.39
URL:https://economics.uc3m.es/event/locally-regular-and-efficient-tests-in-non-regular-semiparametric-models/
LOCATION:15.1.39
CATEGORIES:Job Market Seminar
ATTACH;FMTTYPE=image/jpeg:https://economics.uc3m.es/wp-content/uploads/2025/01/Adam-Lee-e1737026809196.jpg
END:VEVENT
BEGIN:VEVENT
DTSTART;TZID=Europe/Helsinki:20250124T124500
DTEND;TZID=Europe/Helsinki:20250124T140000
DTSTAMP:20260422T231826
CREATED:20250113T124653Z
LAST-MODIFIED:20250113T124653Z
UID:8795-1737722700-1737727200@economics.uc3m.es
SUMMARY:Quantile on Quantiles
DESCRIPTION:Martina Pons\n(UC3M)\n  \n“AQuantile on Quantiles”\n  \nRoom 15.1.39
URL:https://economics.uc3m.es/event/quantile-on-quantiles/
LOCATION:15.1.39
CATEGORIES:Job Market Seminar
ATTACH;FMTTYPE=image/jpeg:https://economics.uc3m.es/wp-content/uploads/2025/01/Martina-Pons-e1736772360601.jpeg
END:VEVENT
BEGIN:VEVENT
DTSTART;TZID=Europe/Helsinki:20250128T124500
DTEND;TZID=Europe/Helsinki:20250128T140000
DTSTAMP:20260422T231826
CREATED:20250113T125559Z
LAST-MODIFIED:20250113T125559Z
UID:8801-1738068300-1738072800@economics.uc3m.es
SUMMARY:Coarse Information Design
DESCRIPTION:Yimeng Zhang\n(U. Bonn)\n  \n“Coarse Information Design”\n  \nRoom 15.1.39
URL:https://economics.uc3m.es/event/coarse-information-design/
LOCATION:15.1.39
CATEGORIES:Job Market Seminar
ATTACH;FMTTYPE=image/png:https://economics.uc3m.es/wp-content/uploads/2025/01/Yimeng-Zhang-e1736772915249.png
END:VEVENT
BEGIN:VEVENT
DTSTART;TZID=Europe/Helsinki:20250129T124500
DTEND;TZID=Europe/Helsinki:20250129T140000
DTSTAMP:20260422T231826
CREATED:20250113T131128Z
LAST-MODIFIED:20250113T131128Z
UID:8807-1738154700-1738159200@economics.uc3m.es
SUMMARY:Settlers and Norms
DESCRIPTION:Joanne Haddad\n(ECARES)\n  \n“Settlers and Norms”\n  \nRoom 15.1.39
URL:https://economics.uc3m.es/event/settlers-and-norms/
LOCATION:15.1.39
CATEGORIES:Job Market Seminar
ATTACH;FMTTYPE=image/jpeg:https://economics.uc3m.es/wp-content/uploads/2025/01/Joanne-Haddad-e1736773734257.jpg
END:VEVENT
BEGIN:VEVENT
DTSTART;TZID=Europe/Helsinki:20250130T124500
DTEND;TZID=Europe/Helsinki:20250130T140000
DTSTAMP:20260422T231826
CREATED:20250113T132136Z
LAST-MODIFIED:20250113T132136Z
UID:8815-1738241100-1738245600@economics.uc3m.es
SUMMARY:Motherhood and Violence
DESCRIPTION:Gabriela Deschamps\n(LSE)\n  \n“Motherhood and Violence”\n  \nRoom 15.1.39
URL:https://economics.uc3m.es/event/motherhood-and-violence/
LOCATION:15.1.39
CATEGORIES:Job Market Seminar
ATTACH;FMTTYPE=image/jpeg:https://economics.uc3m.es/wp-content/uploads/2025/01/Gabriela-Deschamps-e1736774461364.jpg
END:VEVENT
BEGIN:VEVENT
DTSTART;TZID=Europe/Helsinki:20250131T124500
DTEND;TZID=Europe/Helsinki:20250131T140000
DTSTAMP:20260422T231826
CREATED:20250113T133311Z
LAST-MODIFIED:20250113T133311Z
UID:8821-1738327500-1738332000@economics.uc3m.es
SUMMARY:Fiscal Shocks and the Surge of Inflation
DESCRIPTION:Lorenzo Mori\n(U. Padova)\n  \n“Fiscal Shocks and the Surge of Inflation”\n  \nRoom 15.1.39
URL:https://economics.uc3m.es/event/fiscal-shocks-and-the-surge-of-inflation/
LOCATION:15.1.39
CATEGORIES:Job Market Seminar
ATTACH;FMTTYPE=image/jpeg:https://economics.uc3m.es/wp-content/uploads/2025/01/Lorenzo-Mori-e1736775110794.jpeg
END:VEVENT
END:VCALENDAR