BEGIN:VCALENDAR
VERSION:2.0
PRODID:-//Department of Economics Universidad Carlos III - ECPv6.15.19//NONSGML v1.0//EN
CALSCALE:GREGORIAN
METHOD:PUBLISH
X-WR-CALNAME:Department of Economics Universidad Carlos III
X-ORIGINAL-URL:https://economics.uc3m.es
X-WR-CALDESC:Events for Department of Economics Universidad Carlos III
REFRESH-INTERVAL;VALUE=DURATION:PT1H
X-Robots-Tag:noindex
X-PUBLISHED-TTL:PT1H
BEGIN:VTIMEZONE
TZID:Europe/Helsinki
BEGIN:DAYLIGHT
TZOFFSETFROM:+0200
TZOFFSETTO:+0300
TZNAME:EEST
DTSTART:20200329T010000
END:DAYLIGHT
BEGIN:STANDARD
TZOFFSETFROM:+0300
TZOFFSETTO:+0200
TZNAME:EET
DTSTART:20201025T010000
END:STANDARD
BEGIN:DAYLIGHT
TZOFFSETFROM:+0200
TZOFFSETTO:+0300
TZNAME:EEST
DTSTART:20210328T010000
END:DAYLIGHT
BEGIN:STANDARD
TZOFFSETFROM:+0300
TZOFFSETTO:+0200
TZNAME:EET
DTSTART:20211031T010000
END:STANDARD
BEGIN:DAYLIGHT
TZOFFSETFROM:+0200
TZOFFSETTO:+0300
TZNAME:EEST
DTSTART:20220327T010000
END:DAYLIGHT
BEGIN:STANDARD
TZOFFSETFROM:+0300
TZOFFSETTO:+0200
TZNAME:EET
DTSTART:20221030T010000
END:STANDARD
END:VTIMEZONE
BEGIN:VEVENT
DTSTART;TZID=Europe/Helsinki:20211004T124500
DTEND;TZID=Europe/Helsinki:20211004T140000
DTSTAMP:20260422T091600
CREATED:20200221T094545Z
LAST-MODIFIED:20210929T101057Z
UID:3922-1633351500-1633356000@economics.uc3m.es
SUMMARY:Land Use\, Structural Change and Urban Expansion
DESCRIPTION:Florian Oswald\n(SciencesPo)\n  \n“Land Use\, Structural Change and Urban Expansion”.\n  \nFace-to-face seminar – Room 18.0.A13\nOr join the virtual session here
URL:https://economics.uc3m.es/event/florian-oswald/
LOCATION:18.0.A13
CATEGORIES:A&E seminar
ATTACH;FMTTYPE=image/jpeg:https://economics.uc3m.es/wp-content/uploads/2020/02/florian-e1582274733839.jpg
END:VEVENT
BEGIN:VEVENT
DTSTART;TZID=Europe/Helsinki:20211005T124500
DTEND;TZID=Europe/Helsinki:20211005T140000
DTSTAMP:20260422T091600
CREATED:20200221T123918Z
LAST-MODIFIED:20211115T131341Z
UID:3966-1633437900-1633442400@economics.uc3m.es
SUMMARY:Credence Goods\, Fraud and Certification
DESCRIPTION:Carmen Arguedas\n(Autonomous University of Madrid)\n  \n“Credence Goods\, Fraud and Certification” (joint work with Esther Blanco).\n  \nFace-to-face seminar – Room 18.0.A13\nOr join the virtual session here
URL:https://economics.uc3m.es/event/carmen-arguedas/
LOCATION:18.0.A13
CATEGORIES:Microeconomics Seminar
ATTACH;FMTTYPE=image/jpeg:https://economics.uc3m.es/wp-content/uploads/2020/02/foto1-e1582285253861.jpg
END:VEVENT
BEGIN:VEVENT
DTSTART;TZID=Europe/Helsinki:20211006T124500
DTEND;TZID=Europe/Helsinki:20211006T140000
DTSTAMP:20260422T091600
CREATED:20210921T123445Z
LAST-MODIFIED:20210924T084538Z
UID:5336-1633524300-1633528800@economics.uc3m.es
SUMMARY:The effectiveness of an online tutoring programme on cognitive and non-cognitive outcomes in secondary school: Evidence from a randomized controlled trial
DESCRIPTION:Claudia Hupkau\n(CUNEF)\n  \n“The effectiveness of an online tutoring programme on cognitive and non-cognitive outcomes in secondary school: Evidence from a randomized controlled trial”.\n  \nFace-to-face seminar – Room 18.0.A13\nOr join the virtual session here
URL:https://economics.uc3m.es/event/claudia-hupkau/
LOCATION:18.0.A13
CATEGORIES:A&E seminar
ATTACH;FMTTYPE=image/jpeg:https://economics.uc3m.es/wp-content/uploads/2021/09/mUtYmNDt_400x400-e1632227674972.jpg
END:VEVENT
BEGIN:VEVENT
DTSTART;TZID=Europe/Helsinki:20211007T124500
DTEND;TZID=Europe/Helsinki:20211007T140000
DTSTAMP:20260422T091600
CREATED:20210915T100534Z
LAST-MODIFIED:20211001T081105Z
UID:5294-1633610700-1633615200@economics.uc3m.es
SUMMARY:Firm-level Technological Change and Skill Demand
DESCRIPTION:Attila Lindner\n(University College London)\n  \n“Firm-level Technological Change and Skill Demand”\n  \nFace-to-face seminar – Room 18.0.A13\nOr join the virtual session here
URL:https://economics.uc3m.es/event/attila-lindner/
LOCATION:18.0.A13
CATEGORIES:Macroeconomics Seminar
ATTACH;FMTTYPE=image/jpeg:https://economics.uc3m.es/wp-content/uploads/2021/09/lindnera_IMG-e1631700323372.jpg
END:VEVENT
BEGIN:VEVENT
DTSTART;TZID=Europe/Helsinki:20211008T124500
DTEND;TZID=Europe/Helsinki:20211008T140000
DTSTAMP:20260422T091600
CREATED:20211004T104919Z
LAST-MODIFIED:20211004T105127Z
UID:5396-1633697100-1633701600@economics.uc3m.es
SUMMARY:Gaussian Transforms Modeling and the Estimation of Distributional Regression Functions
DESCRIPTION:Sami Stouli\n(University of Bristol)\n  \n“Gaussian Transforms Modeling and the Estimation of Distributional Regression Functions”\n  \nFace-to-face seminar – Room 18.0.A13\nOr join the virtual session here
URL:https://economics.uc3m.es/event/sami-stouli/
LOCATION:18.0.A13
CATEGORIES:A&E seminar
ATTACH;FMTTYPE=image/jpeg:https://economics.uc3m.es/wp-content/uploads/2021/10/Sami-Stouli-e1633344552320.jpg
END:VEVENT
BEGIN:VEVENT
DTSTART;TZID=Europe/Helsinki:20211013T124500
DTEND;TZID=Europe/Helsinki:20211013T140000
DTSTAMP:20260422T091600
CREATED:20210915T114003Z
LAST-MODIFIED:20211115T131312Z
UID:5302-1634129100-1634133600@economics.uc3m.es
SUMMARY:"Legislative priorities and the structure of government"
DESCRIPTION:Antoine Loeper\n(University Carlos III)\n  \n“”Legislative priorities and the structure of government” (joint with Wiola Dziuda).\n  \nFace-to-face seminar – Room 18.0.A13\nOr join the virtual session here
URL:https://economics.uc3m.es/event/antoine-loeper/
LOCATION:18.0.A13
CATEGORIES:IID Seminar
ATTACH;FMTTYPE=image/jpeg:https://economics.uc3m.es/wp-content/uploads/2021/09/Photo-CIII-2017-e1631705997440.jpg
END:VEVENT
BEGIN:VEVENT
DTSTART;TZID=Europe/Helsinki:20211014T124500
DTEND;TZID=Europe/Helsinki:20211014T140000
DTSTAMP:20260422T091600
CREATED:20210915T111840Z
LAST-MODIFIED:20211008T091732Z
UID:5298-1634215500-1634220000@economics.uc3m.es
SUMMARY:Falling Interest Rates and Credit Misallocation: Lessons from General Equilibrium
DESCRIPTION:Victoria Vanasco\n(CREi-UPF)\n  \n“Falling Interest Rates and Credit Misallocation: Lessons from General Equilibrium”\n  \nFace-to-face seminar – Room 18.0.A13\nOr join the virtual session here
URL:https://economics.uc3m.es/event/victoria-vanasco/
LOCATION:18.0.A13
CATEGORIES:Macroeconomics Seminar
ATTACH;FMTTYPE=image/jpeg:https://economics.uc3m.es/wp-content/uploads/2021/09/https_lh3.googleusercontent.com-p3y0ehQ6VUcWya1F1jfBHIAAAAAAAAyGsNtWHiVMJSboZ4P1y3igdMnw0SufXdiQhQCLkCGAss0SGSB-1276-Victoria-VanascoRT-web.jpg
END:VEVENT
BEGIN:VEVENT
DTSTART;TZID=Europe/Helsinki:20211018T124500
DTEND;TZID=Europe/Helsinki:20211018T140000
DTSTAMP:20260422T091600
CREATED:20210915T115859Z
LAST-MODIFIED:20211014T075406Z
UID:5306-1634561100-1634565600@economics.uc3m.es
SUMMARY:Gender differences in high-stakes performance and college admission policies
DESCRIPTION:Andreu Arenas Jal\n(University of Barcelona)\n  \n“Gender differences in high-stakes performance and college admission policies” (joint with Caterina Calsamiglia)\n  \nFace-to-face seminar – Room 18.0.A13\nOr join the virtual session here
URL:https://economics.uc3m.es/event/andreu-arenas-jal/
LOCATION:18.0.A13
CATEGORIES:A&E seminar
ATTACH;FMTTYPE=image/jpeg:https://economics.uc3m.es/wp-content/uploads/2021/09/EmbeddedImage-1-e1631707123354.jpg
END:VEVENT
BEGIN:VEVENT
DTSTART;TZID=Europe/Helsinki:20211019T124500
DTEND;TZID=Europe/Helsinki:20211019T140000
DTSTAMP:20260422T091600
CREATED:20210915T120434Z
LAST-MODIFIED:20211115T131251Z
UID:5310-1634647500-1634652000@economics.uc3m.es
SUMMARY:All-Pay Contests\, Costly Participation and Default Allocation
DESCRIPTION:Sandro Shelegia\n(Universitat Pompeu Fabra)\n  \n“All-Pay Contests\, Costly Participation and Default Allocation” (with Chris Wilson)\n  \nFace-to-face seminar – Room 18.0.A13\nOr join the virtual session here
URL:https://economics.uc3m.es/event/sandro-shelegia/
LOCATION:18.0.A13
CATEGORIES:Microeconomics Seminar
ATTACH;FMTTYPE=image/jpeg:https://economics.uc3m.es/wp-content/uploads/2021/09/IMG_0003-e1631707460463.jpg
END:VEVENT
BEGIN:VEVENT
DTSTART;TZID=Europe/Helsinki:20211021T100000
DTEND;TZID=Europe/Helsinki:20211021T120000
DTSTAMP:20260422T091600
CREATED:20210915T122141Z
LAST-MODIFIED:20211020T145920Z
UID:5324-1634810400-1634817600@economics.uc3m.es
SUMMARY:Shadow Federal Funds Rate
DESCRIPTION:Mariano Kulish\n(University of Sydney)\n  \n“Shadow Federal Funds Rate”\n  \nVirtual seminar – Join the session here
URL:https://economics.uc3m.es/event/mariano-kulish/
LOCATION:Virtual Seminar
CATEGORIES:Macroeconomics Seminar
ATTACH;FMTTYPE=image/png:https://economics.uc3m.es/wp-content/uploads/2021/09/Mariano_photot-e1631707769100.png
END:VEVENT
BEGIN:VEVENT
DTSTART;TZID=Europe/Helsinki:20211025T124500
DTEND;TZID=Europe/Helsinki:20211025T140000
DTSTAMP:20260422T091600
CREATED:20210915T120938Z
LAST-MODIFIED:20211115T131235Z
UID:5314-1635165900-1635170400@economics.uc3m.es
SUMMARY:Sexual Harassment and Gender Inequality in the Labor Market
DESCRIPTION:Johanna Rickne\n(Stockholm University)\n  \nOlle Folke\n(Uppsala University)\n  \n“Sexual harassment and gender Inequality in the labor market”\n  \nFace-to-face seminar – Room 18.0.A13\nOr join the virtual session here
URL:https://economics.uc3m.es/event/johanna-rickne/
LOCATION:18.0.A13
CATEGORIES:A&E seminar
ATTACH;FMTTYPE=image/jpeg:https://economics.uc3m.es/wp-content/uploads/2021/09/EmbeddedImage-1-1-e1631708301904.jpg
END:VEVENT
BEGIN:VEVENT
DTSTART;TZID=Europe/Helsinki:20211026T124500
DTEND;TZID=Europe/Helsinki:20211026T140000
DTSTAMP:20260422T091600
CREATED:20210916T113710Z
LAST-MODIFIED:20211025T112357Z
UID:5330-1635252300-1635256800@economics.uc3m.es
SUMMARY:Cognitive Imprecision and Strategic Behavior
DESCRIPTION:Salvatore Nunnari\n(Bocconi University)\n  \n“Cognitive Imprecision and Strategic Behavior” (with Cary Frydman)\n  \nJoin the virtual session here
URL:https://economics.uc3m.es/event/salvatore-nunnari/
LOCATION:Virtual Seminar
CATEGORIES:Microeconomics Seminar
ATTACH;FMTTYPE=image/png:https://economics.uc3m.es/wp-content/uploads/2021/09/nunnari-min-e1631792373659.png
END:VEVENT
BEGIN:VEVENT
DTSTART;TZID=Europe/Helsinki:20211028T124500
DTEND;TZID=Europe/Helsinki:20211028T140000
DTSTAMP:20260422T091600
CREATED:20210921T124209Z
LAST-MODIFIED:20211025T112435Z
UID:5340-1635425100-1635429600@economics.uc3m.es
SUMMARY:Trade and Agglomeration: Theory and Evidence from France
DESCRIPTION:Jan Bakker\n(Bocconi University)\n  \n“Trade and Agglomeration: Theory and Evidence from France”\n  \nFace-to-face seminar – Room 18.0.A13\nOr join the virtual session here
URL:https://economics.uc3m.es/event/jan-bakker/
LOCATION:18.0.A13
CATEGORIES:Macroeconomics Seminar
ATTACH;FMTTYPE=image/jpeg:https://economics.uc3m.es/wp-content/uploads/2021/09/jan-for-webpage-e1632228072351.jpg
END:VEVENT
END:VCALENDAR