BEGIN:VCALENDAR
VERSION:2.0
PRODID:-//Department of Economics Universidad Carlos III - ECPv6.15.19//NONSGML v1.0//EN
CALSCALE:GREGORIAN
METHOD:PUBLISH
X-WR-CALNAME:Department of Economics Universidad Carlos III
X-ORIGINAL-URL:https://economics.uc3m.es
X-WR-CALDESC:Events for Department of Economics Universidad Carlos III
REFRESH-INTERVAL;VALUE=DURATION:PT1H
X-Robots-Tag:noindex
X-PUBLISHED-TTL:PT1H
BEGIN:VTIMEZONE
TZID:Europe/Helsinki
BEGIN:DAYLIGHT
TZOFFSETFROM:+0200
TZOFFSETTO:+0300
TZNAME:EEST
DTSTART:20230326T010000
END:DAYLIGHT
BEGIN:STANDARD
TZOFFSETFROM:+0300
TZOFFSETTO:+0200
TZNAME:EET
DTSTART:20231029T010000
END:STANDARD
BEGIN:DAYLIGHT
TZOFFSETFROM:+0200
TZOFFSETTO:+0300
TZNAME:EEST
DTSTART:20240331T010000
END:DAYLIGHT
BEGIN:STANDARD
TZOFFSETFROM:+0300
TZOFFSETTO:+0200
TZNAME:EET
DTSTART:20241027T010000
END:STANDARD
BEGIN:DAYLIGHT
TZOFFSETFROM:+0200
TZOFFSETTO:+0300
TZNAME:EEST
DTSTART:20250330T010000
END:DAYLIGHT
BEGIN:STANDARD
TZOFFSETFROM:+0300
TZOFFSETTO:+0200
TZNAME:EET
DTSTART:20251026T010000
END:STANDARD
END:VTIMEZONE
BEGIN:VEVENT
DTSTART;TZID=Europe/Helsinki:20241203T124500
DTEND;TZID=Europe/Helsinki:20241203T140000
DTSTAMP:20260425T014327
CREATED:20241126T125519Z
LAST-MODIFIED:20241126T133948Z
UID:8680-1733229900-1733234400@economics.uc3m.es
SUMMARY:Limit Orders and Knightian Uncertainty (joint work with Michael Greinecker)
DESCRIPTION:Christoph Kuzmics\n(University of Graz)\n  \n“Limit Orders and Knightian Uncertainty (joint work with Michael Greinecker)”\n  \nFace-to-face Seminar – Room 15.1.39
URL:https://economics.uc3m.es/event/limit-orders-and-knightian-uncertainty-joint-work-with-michael-greinecker/
LOCATION:15.1.39
CATEGORIES:Microeconomics Seminar
ATTACH;FMTTYPE=image/jpeg:https://economics.uc3m.es/wp-content/uploads/2024/11/Christop-Kuzmics.jpg
END:VEVENT
BEGIN:VEVENT
DTSTART;TZID=Europe/Helsinki:20241210T124500
DTEND;TZID=Europe/Helsinki:20241210T140000
DTSTAMP:20260425T014327
CREATED:20241202T134126Z
LAST-MODIFIED:20241202T134126Z
UID:8723-1733834700-1733839200@economics.uc3m.es
SUMMARY:Market Power and Insurance Coverage
DESCRIPTION:Daniel Gottlieb\n(LSE)\n  \n“Market Power and Insurance Coverage”\n  \nFace-to-face Seminar – Room 15.1.39
URL:https://economics.uc3m.es/event/market-power-and-insurance-coverage/
LOCATION:15.1.39
CATEGORIES:Microeconomics Seminar
ATTACH;FMTTYPE=image/jpeg:https://economics.uc3m.es/wp-content/uploads/2024/12/Daniel-Gottlieb-e1733146838759.jpg
END:VEVENT
END:VCALENDAR