BEGIN:VCALENDAR
VERSION:2.0
PRODID:-//Department of Economics Universidad Carlos III - ECPv6.15.19//NONSGML v1.0//EN
CALSCALE:GREGORIAN
METHOD:PUBLISH
X-WR-CALNAME:Department of Economics Universidad Carlos III
X-ORIGINAL-URL:https://economics.uc3m.es
X-WR-CALDESC:Events for Department of Economics Universidad Carlos III
REFRESH-INTERVAL;VALUE=DURATION:PT1H
X-Robots-Tag:noindex
X-PUBLISHED-TTL:PT1H
BEGIN:VTIMEZONE
TZID:Europe/Helsinki
BEGIN:DAYLIGHT
TZOFFSETFROM:+0200
TZOFFSETTO:+0300
TZNAME:EEST
DTSTART:20210328T010000
END:DAYLIGHT
BEGIN:STANDARD
TZOFFSETFROM:+0300
TZOFFSETTO:+0200
TZNAME:EET
DTSTART:20211031T010000
END:STANDARD
BEGIN:DAYLIGHT
TZOFFSETFROM:+0200
TZOFFSETTO:+0300
TZNAME:EEST
DTSTART:20220327T010000
END:DAYLIGHT
BEGIN:STANDARD
TZOFFSETFROM:+0300
TZOFFSETTO:+0200
TZNAME:EET
DTSTART:20221030T010000
END:STANDARD
BEGIN:DAYLIGHT
TZOFFSETFROM:+0200
TZOFFSETTO:+0300
TZNAME:EEST
DTSTART:20230326T010000
END:DAYLIGHT
BEGIN:STANDARD
TZOFFSETFROM:+0300
TZOFFSETTO:+0200
TZNAME:EET
DTSTART:20231029T010000
END:STANDARD
BEGIN:DAYLIGHT
TZOFFSETFROM:+0200
TZOFFSETTO:+0300
TZNAME:EEST
DTSTART:20240331T010000
END:DAYLIGHT
BEGIN:STANDARD
TZOFFSETFROM:+0300
TZOFFSETTO:+0200
TZNAME:EET
DTSTART:20241027T010000
END:STANDARD
END:VTIMEZONE
BEGIN:VEVENT
DTSTART;TZID=Europe/Helsinki:20221010T124500
DTEND;TZID=Europe/Helsinki:20221010T140000
DTSTAMP:20260424T203631
CREATED:20220905T120028Z
LAST-MODIFIED:20221004T120426Z
UID:6302-1665405900-1665410400@economics.uc3m.es
SUMMARY:Partial retirement and spousal labor supply: learning from a retirement reform in Norway
DESCRIPTION:Elena Stancanelli\n(Paris School of Economics)\n  \n“Partial retirement and spousal labor supply: learning from a retirement reform in Norway” (with Bernt Bratsberg)\n  \nFace-to-face seminar – Room 15.1.39
URL:https://economics.uc3m.es/event/elena-stancanelli/
LOCATION:15.1.39
CATEGORIES:A&E seminar
ATTACH;FMTTYPE=image/jpeg:https://economics.uc3m.es/wp-content/uploads/2022/09/estancanelli-e1662379207965.jpg
END:VEVENT
BEGIN:VEVENT
DTSTART;TZID=Europe/Helsinki:20221017T124500
DTEND;TZID=Europe/Helsinki:20221017T141500
DTSTAMP:20260424T203631
CREATED:20221010T085725Z
LAST-MODIFIED:20221010T090810Z
UID:6383-1666010700-1666016100@economics.uc3m.es
SUMMARY:Specialised Courts and the Reporting of Intimate Partner Violence: Evidence from Spain
DESCRIPTION:Jorge García Hombrados\n(Universidad Autónoma de Madrid)\n  \n“Specialised Courts and the Reporting of Intimate Partner Violence: Evidence from Spain” (with Marta Martínez Matute)\n  \nFace-to-face Seminar – Room 15.1.39
URL:https://economics.uc3m.es/event/jorge-garcia-hombrados/
LOCATION:15.1.39
CATEGORIES:A&E seminar
ATTACH;FMTTYPE=image/jpeg:https://economics.uc3m.es/wp-content/uploads/2022/10/EmbeddedImage-e1665392236941.jpg
END:VEVENT
BEGIN:VEVENT
DTSTART;TZID=Europe/Helsinki:20221024T124500
DTEND;TZID=Europe/Helsinki:20221024T141500
DTSTAMP:20260424T203631
CREATED:20220906T100046Z
LAST-MODIFIED:20221017T095307Z
UID:6322-1666615500-1666620900@economics.uc3m.es
SUMMARY:ICT and Student Learning
DESCRIPTION:Ghazala Azmat\n(Sciences Po)\n  \n“ICT and Student Learning” (joint with Denis Fougere and Clemence Lobut)\n  \nFace-to-face Seminar – Room 15.1.39
URL:https://economics.uc3m.es/event/ghazala-azmat-2/
LOCATION:15.1.39
CATEGORIES:A&E seminar
ATTACH;FMTTYPE=image/jpeg:https://economics.uc3m.es/wp-content/uploads/2022/03/2019_G_AZMAT-e1647948253547.jpg
END:VEVENT
BEGIN:VEVENT
DTSTART;TZID=Europe/Helsinki:20221107T124500
DTEND;TZID=Europe/Helsinki:20221107T141500
DTSTAMP:20260424T203631
CREATED:20221010T095504Z
LAST-MODIFIED:20221027T102111Z
UID:6392-1667825100-1667830500@economics.uc3m.es
SUMMARY:Overcoming empathy failures to reduce inequality: Experimental evidence from Colombia
DESCRIPTION:Sandra Polanía-Reyes\n(University of Navarra)\n  \n“Overcoming empathy failures to reduce inequality: Experimental evidence from Colombia”\n\n\nABSTRACT\n\n\nIn recent years\, Latin America and the Caribbean has faced a wave of six million migrants from Venezuela\, three million of them entering Colombia. The migration crisis adds to the demographic shock stemming from internally displaced people (IDPs)\, former FARC combatants and paramilitaries rejoining civilian life. The urge to ensure basic welfare conditions for migrants is mediated by the challenge of integration into a society that sees them as outsiders. \nAlthough prosocial behavior is understood as key for development\, little is known about the role of prosocial behavior in the presence of conflict between groups and inequality. The effectiveness of prosocial behavior can be enhanced by three channels: ingroup member beliefs that outgroup members are willing and able to integrate\, reductions in prejudice or increases in empathy. We implement a lab-in-the-field experiment with a representative sample in the main Colombian regions to measure the benefit of two 5-minute media interventions on prosocial behavior (i.e. altruism\, trust\, and preferences for redistribution) towards four groups: Venezuelan migrants\, former combatants\, internally displaced people and the very poor. \nUnlike other similar edutainment interventions\, ours are grounded on social psychology theory and evidence. Thus\, the mechanism is not priming but actual information and learning to lower psychosocial barriers (beliefs\, prejudice and empathy). We show that exposure to the media interventions humanizes FARC ex-combatants and IDPs\, affecting both attitudes (e.g.\, support for inclusive policies) and prosocial behavior toward both groups. The robust effects of our intervention inform the policy design and thus accelerate the integration of the migrant population into their host communities. \n\n\n\n\nFace-to-face Seminar – Room 15.1.39
URL:https://economics.uc3m.es/event/sandra-polania-reyes/
LOCATION:15.1.39
CATEGORIES:A&E seminar
ATTACH;FMTTYPE=image/jpeg:https://economics.uc3m.es/wp-content/uploads/2022/10/2017-e1665395686972.jpg
END:VEVENT
BEGIN:VEVENT
DTSTART;TZID=Europe/Helsinki:20221114T124500
DTEND;TZID=Europe/Helsinki:20221114T141500
DTSTAMP:20260424T203631
CREATED:20221010T101237Z
LAST-MODIFIED:20221110T094231Z
UID:6396-1668429900-1668435300@economics.uc3m.es
SUMMARY:Binary Response Dynamic Panel Data Models with Switching State Dependence
DESCRIPTION:Eleni Aristodemou\n(University of Cyprus)\n  \n“Binary Response Dynamic Panel Data Models with Switching State Dependence”\n\nAbstract:\n This paper studies identification in binary response dynamic panel data models with switching state dependence. Departing from the standard approach of modelling binary response dynamic panel data models\, where last period’s choice enters as an additional regressor\, this paper allows for switching dependence where current period’s decision depends on whether this period’s choice differs from last period’s choice. This form of correlation causes inertia in individual choices and is suitable for modeling cases where individuals face some form of high \switching costs”. This contemporaneous effect in choices\, where the choice an individual makes in the current period directly affects current period’s latent utility\, results in the model being logically inconsistent\, making the model both incomplete and incoherent\, which might result in lack of point-identification. \nFace-to-face Seminar – Room 15.1.39
URL:https://economics.uc3m.es/event/eleni-aristodemou/
LOCATION:15.1.39
CATEGORIES:A&E seminar
ATTACH;FMTTYPE=image/jpeg:https://economics.uc3m.es/wp-content/uploads/2022/10/AF1QipOzqrkVyeuMBThbjcqA8QYC4aPwV0qzTZ4nGMvAw4032-h1908-e1665396743466.jpg
END:VEVENT
BEGIN:VEVENT
DTSTART;TZID=Europe/Helsinki:20221205T124500
DTEND;TZID=Europe/Helsinki:20221205T140000
DTSTAMP:20260424T203631
CREATED:20221130T095326Z
LAST-MODIFIED:20221130T095458Z
UID:6615-1670244300-1670248800@economics.uc3m.es
SUMMARY:Estimation of large supermodular games using szenárien
DESCRIPTION:Bryan Graham\n(Berkeley)\n  \n“Estimation of large supermodular games using szenárien” joint with Andrin Pelican.\n  \nFace-to-face Seminar – Room 15.1.39
URL:https://economics.uc3m.es/event/bryan-graham/
LOCATION:15.1.39
CATEGORIES:A&E seminar
ATTACH;FMTTYPE=image/jpeg:https://economics.uc3m.es/wp-content/uploads/2022/11/photo_BSG_2019-e1669798397917.jpg
END:VEVENT
BEGIN:VEVENT
DTSTART;TZID=Europe/Helsinki:20221212T124500
DTEND;TZID=Europe/Helsinki:20221212T140000
DTSTAMP:20260424T203631
CREATED:20221010T144021Z
LAST-MODIFIED:20221212T092724Z
UID:6450-1670849100-1670853600@economics.uc3m.es
SUMMARY:Exposure(s) to Trade and Earnings Dynamics: Evidence from the Collapse of Finnish-Soviet Trade
DESCRIPTION:Matti Sarvimäki\n(Aalto University)\n  \n“Exposure(s) to Trade and Earnings Dynamics: Evidence from the Collapse of Finnish-Soviet Trade”\n  \nFace-to-face Seminar – Room 15.1.39
URL:https://economics.uc3m.es/event/matti-sarvimaki/
LOCATION:15.1.39
CATEGORIES:A&E seminar
ATTACH;FMTTYPE=image/jpeg:https://economics.uc3m.es/wp-content/uploads/2022/10/Matti-Sarvimaki_2-e1665412811302.jpg
END:VEVENT
BEGIN:VEVENT
DTSTART;TZID=Europe/Helsinki:20230227T124500
DTEND;TZID=Europe/Helsinki:20230227T140000
DTSTAMP:20260424T203631
CREATED:20230201T095351Z
LAST-MODIFIED:20230215T094145Z
UID:6881-1677501900-1677506400@economics.uc3m.es
SUMMARY:Playing the system: address manipulation and access to schools
DESCRIPTION:Hans Henrik Sievertsen\n(University of Bristol)\n  \n“Playing the system: address manipulation and access to schools”\n  \nFace-to-face Seminar – Room 15.1.39
URL:https://economics.uc3m.es/event/hans-henrik-sievertsen/
LOCATION:15.1.39
CATEGORIES:A&E seminar
ATTACH;FMTTYPE=image/jpeg:https://economics.uc3m.es/wp-content/uploads/2023/02/Hans-Sievertsen--e1675241623397.jpg
END:VEVENT
BEGIN:VEVENT
DTSTART;TZID=Europe/Helsinki:20230306T124500
DTEND;TZID=Europe/Helsinki:20230306T140000
DTSTAMP:20260424T203631
CREATED:20230215T094612Z
LAST-MODIFIED:20230228T123631Z
UID:6912-1678106700-1678111200@economics.uc3m.es
SUMMARY:Automation\, Career Values\, and Political Preferences
DESCRIPTION:Maria Petrova\n(Universitat Pompeu Fabra)\n  \n“Automation\, Career Values\, and Political Preferences” joint work with  Gregor Schubert\, Pinar Yildirim\, and Bledi Taska\n  \nFace-to-face Seminar – Room 15.1.39
URL:https://economics.uc3m.es/event/maria-petrova/
LOCATION:15.1.39
CATEGORIES:A&E seminar
ATTACH;FMTTYPE=image/jpeg:https://economics.uc3m.es/wp-content/uploads/2023/02/198kRiz44g0imwNiIKmm2ZLB1TuIIOZn0-e1676450763878.jpg
END:VEVENT
BEGIN:VEVENT
DTSTART;TZID=Europe/Helsinki:20230308T124500
DTEND;TZID=Europe/Helsinki:20230308T140000
DTSTAMP:20260424T203631
CREATED:20230215T121739Z
LAST-MODIFIED:20230228T095911Z
UID:6916-1678279500-1678284000@economics.uc3m.es
SUMMARY:A Revealed-Preference Approach to Measuring Information Frictions in Migration Decisions
DESCRIPTION:Eduardo Morales\n(Princeton University)\n  \n“A Revealed-Preference Approach to Measuring Information Frictions in Migration Decisions” (joint with Thomas Fujiwara and Charly Porcher)\n  \nFace-to-face Seminar – Room 15.1.39
URL:https://economics.uc3m.es/event/eduardo-morales/
LOCATION:15.1.39
CATEGORIES:A&E seminar
ATTACH;FMTTYPE=image/jpeg:https://economics.uc3m.es/wp-content/uploads/2023/02/Eduardo_Morales_Picture-e1676459851265.jpg
END:VEVENT
BEGIN:VEVENT
DTSTART;TZID=Europe/Helsinki:20230310T124500
DTEND;TZID=Europe/Helsinki:20230310T140000
DTSTAMP:20260424T203631
CREATED:20230215T141617Z
LAST-MODIFIED:20230227T143132Z
UID:6924-1678452300-1678456800@economics.uc3m.es
SUMMARY:A Neyman Orthogonalization Approach to the Incidental Parameter Problem
DESCRIPTION:Stephane Bonhomme\n(University of Chicago)\n  \n“A Neyman Orthogonalization Approach to the Incidental Parameter Problem” joint with Koen Jochmans and Martin Weidner.\n  \nFace-to-face Seminar – Room 15.1.41
URL:https://economics.uc3m.es/event/stephane-bonhomme/
LOCATION:15.1.41
CATEGORIES:A&E seminar
ATTACH;FMTTYPE=image/jpeg:https://economics.uc3m.es/wp-content/uploads/2023/02/bonhomme.photo_.2013.crop_.jpg
END:VEVENT
BEGIN:VEVENT
DTSTART;TZID=Europe/Helsinki:20230313T124500
DTEND;TZID=Europe/Helsinki:20230313T140000
DTSTAMP:20260424T203631
CREATED:20230220T142300Z
LAST-MODIFIED:20230307T142002Z
UID:6948-1678711500-1678716000@economics.uc3m.es
SUMMARY:Financial Concerns and Sleeplessness
DESCRIPTION:Maulik Jagnani\n(University of Colorado Denver)\n  \n“Financial Concerns and Sleeplessness”\n  \nFace-to-face Seminar – Room 15.1.39
URL:https://economics.uc3m.es/event/maulik-jagnani/
LOCATION:15.1.39
CATEGORIES:A&E seminar
ATTACH;FMTTYPE=image/jpeg:https://economics.uc3m.es/wp-content/uploads/2023/02/MJ-e1676899373964.jpg
END:VEVENT
BEGIN:VEVENT
DTSTART;TZID=Europe/Helsinki:20230323T124500
DTEND;TZID=Europe/Helsinki:20230323T140000
DTSTAMP:20260424T203631
CREATED:20230221T134926Z
LAST-MODIFIED:20230321T095300Z
UID:6972-1679575500-1679580000@economics.uc3m.es
SUMMARY:The wage elasticity of recruitment
DESCRIPTION:Alan Manning\n(LSE)\n  \n“The wage elasticity of recruitment”\n  \nFace-to-face Seminar – Room 15.1.39
URL:https://economics.uc3m.es/event/alan-manning/
LOCATION:15.1.39
CATEGORIES:A&E seminar,Macroeconomics Seminar
ATTACH;FMTTYPE=image/jpeg:https://economics.uc3m.es/wp-content/uploads/2023/02/Alan-website-e1676983754669.jpg
END:VEVENT
BEGIN:VEVENT
DTSTART;TZID=Europe/Helsinki:20230324T124500
DTEND;TZID=Europe/Helsinki:20230324T140000
DTSTAMP:20260424T203631
CREATED:20230221T135319Z
LAST-MODIFIED:20230317T130219Z
UID:6976-1679661900-1679666400@economics.uc3m.es
SUMMARY:For Better or Worse? Subjective Expectations and Cost-Benefit Trade-Offs in Health Behavior: An Application to Lockdown Compliance in the United Kingdom
DESCRIPTION:Gabriella Conti\n(UCL)\n  \n“For Better or Worse? Subjective Expectations and Cost-Benefit Trade-Offs in Health Behavior: An Application to Lockdown Compliance in the United Kingdom” (with P. Giustinelli)\n  \nFace-to-face Seminar – Room 15.1.41
URL:https://economics.uc3m.es/event/gabriella-conti/
LOCATION:15.1.41
CATEGORIES:A&E seminar
ATTACH;FMTTYPE=image/jpeg:https://economics.uc3m.es/wp-content/uploads/2023/02/gabriella_conti-e1676983993172.jpg
END:VEVENT
BEGIN:VEVENT
DTSTART;TZID=Europe/Helsinki:20230327T124500
DTEND;TZID=Europe/Helsinki:20230327T140000
DTSTAMP:20260424T203631
CREATED:20230221T135722Z
LAST-MODIFIED:20230316T103324Z
UID:6980-1679921100-1679925600@economics.uc3m.es
SUMMARY:Global Income Poverty Measurement with Preference Heterogeneity: Theory and Application
DESCRIPTION:Mery Ferrando\n(Tilburg University)\n  \n“Global Income Poverty Measurement with Preference Heterogeneity: Theory and Application” (with Benoit Decerf and Natalie Naïri Quinn)\n  \nFace-to-face Seminar – Room 15.1.39
URL:https://economics.uc3m.es/event/mery-ferrando/
LOCATION:15.1.39
CATEGORIES:A&E seminar
ATTACH;FMTTYPE=image/jpeg:https://economics.uc3m.es/wp-content/uploads/2023/02/28424776383_48be571cc8_b-e1676984237862.jpg
END:VEVENT
BEGIN:VEVENT
DTSTART;TZID=Europe/Helsinki:20230417T124500
DTEND;TZID=Europe/Helsinki:20230417T140000
DTSTAMP:20260424T203631
CREATED:20230323T120332Z
LAST-MODIFIED:20230411T085801Z
UID:7083-1681735500-1681740000@economics.uc3m.es
SUMMARY:Understanding Labor Market Discrimination Against Transgender People: Evidence from a Double List Experiment and a Survey
DESCRIPTION:Dario Sansone\n(University of Exeter)\n  \n“Understanding Labor Market Discrimination Against Transgender People: Evidence from a Double List Experiment and a Survey”\n  \nFace-to-face Seminar – Room 15.1.39
URL:https://economics.uc3m.es/event/dario-sansone/
LOCATION:15.1.39
CATEGORIES:A&E seminar
ATTACH;FMTTYPE=image/jpeg:https://economics.uc3m.es/wp-content/uploads/2023/03/IMG_0384small-e1679569406932.jpg
END:VEVENT
BEGIN:VEVENT
DTSTART;TZID=Europe/Helsinki:20230419T124500
DTEND;TZID=Europe/Helsinki:20230419T140000
DTSTAMP:20260424T203631
CREATED:20230323T120924Z
LAST-MODIFIED:20230411T084411Z
UID:7092-1681908300-1681912800@economics.uc3m.es
SUMMARY:Simultaneous inference for predictions by mixed parameters with some illustrations from small area estimation
DESCRIPTION:Stefan Sperlich\n(Université de Genève)\n  \n“Simultaneous inference for predictions by mixed parameters with some illustrations from small area estimation”\n  \nFace-to-face Seminar – Room 15.1.39
URL:https://economics.uc3m.es/event/stefan-sperlich-2/
LOCATION:15.1.39
CATEGORIES:A&E seminar
ATTACH;FMTTYPE=image/png:https://economics.uc3m.es/wp-content/uploads/2023/03/EmbeddedImage.png
END:VEVENT
BEGIN:VEVENT
DTSTART;TZID=Europe/Helsinki:20230424T124500
DTEND;TZID=Europe/Helsinki:20230424T140000
DTSTAMP:20260424T203631
CREATED:20230330T083450Z
LAST-MODIFIED:20230417T140513Z
UID:7112-1682340300-1682344800@economics.uc3m.es
SUMMARY:Teacher Impacts on Students’ Non-Cognitive Skills and Young Adult Outcomes
DESCRIPTION:Sarah Flèche\n(Sorbonne Economics Centre)\n  \n“Teacher Impacts on Students’ Non-Cognitive Skills and Young Adult Outcomes”\n  \nFace-to-face Seminar – Room 15.1.39
URL:https://economics.uc3m.es/event/sarah-fleche/
LOCATION:15.1.39
CATEGORIES:A&E seminar
ATTACH;FMTTYPE=image/jpeg:https://economics.uc3m.es/wp-content/uploads/2023/03/Sarah-Fleche-e1680166277161.jpg
END:VEVENT
BEGIN:VEVENT
DTSTART;TZID=Europe/Helsinki:20230508T124500
DTEND;TZID=Europe/Helsinki:20230508T140000
DTSTAMP:20260424T203631
CREATED:20230413T121324Z
LAST-MODIFIED:20230425T122114Z
UID:7138-1683549900-1683554400@economics.uc3m.es
SUMMARY:Factor and Factor Loading Augmented Estimators for Panel Regression With Possibly Nonstrong Factors
DESCRIPTION:Jad Beyhum\n(CREST and ENSAI)\n  \n“Factor and Factor Loading Augmented Estimators for Panel Regression With Possibly Nonstrong Factors”\n  \nFace-to-face Seminar – Room 15.1.39
URL:https://economics.uc3m.es/event/jad-beyhum/
LOCATION:15.1.39
CATEGORIES:A&E seminar
ATTACH;FMTTYPE=image/jpeg:https://economics.uc3m.es/wp-content/uploads/2023/04/1597301303806-e1681387997991.jpg
END:VEVENT
BEGIN:VEVENT
DTSTART;TZID=Europe/Helsinki:20230510T124500
DTEND;TZID=Europe/Helsinki:20230510T140000
DTSTAMP:20260424T203631
CREATED:20230413T122019Z
LAST-MODIFIED:20230509T131319Z
UID:7142-1683722700-1683727200@economics.uc3m.es
SUMMARY:Compound Tail Risk
DESCRIPTION:Robert Engle\n(NYU)\n  \n“Compound Tail Risk”\n  \nFace-to-face Seminar – Room 14.0.11\nLive stream: https://www.youtube.com/watch?v=fxLXeows5Po
URL:https://economics.uc3m.es/event/robert-engle/
LOCATION:14.0.11
CATEGORIES:A&E seminar
ATTACH;FMTTYPE=image/jpeg:https://economics.uc3m.es/wp-content/uploads/2023/04/robert-engle-speaker-e1681388360774.jpg
END:VEVENT
BEGIN:VEVENT
DTSTART;TZID=Europe/Helsinki:20230515T124500
DTEND;TZID=Europe/Helsinki:20230515T140000
DTSTAMP:20260424T203631
CREATED:20230413T123144Z
LAST-MODIFIED:20230508T142357Z
UID:7150-1684154700-1684159200@economics.uc3m.es
SUMMARY:Asymmetric Monetary Policy Tradeoffs
DESCRIPTION:Luca Gambetti\n(UAB)\n  \n“Asymmetric Monetary Policy Tradeoffs”\n  \nFace-to-face Seminar – Room 15.1.39
URL:https://economics.uc3m.es/event/luca-gambetti/
LOCATION:15.1.39
CATEGORIES:A&E seminar,Macroeconomics Seminar
ATTACH;FMTTYPE=image/jpeg:https://economics.uc3m.es/wp-content/uploads/2023/04/lgambetti.jpg
END:VEVENT
BEGIN:VEVENT
DTSTART;TZID=Europe/Helsinki:20230522T124500
DTEND;TZID=Europe/Helsinki:20230522T140000
DTSTAMP:20260424T203631
CREATED:20230426T111008Z
LAST-MODIFIED:20230505T113258Z
UID:7180-1684759500-1684764000@economics.uc3m.es
SUMMARY:The Role of Firms in the Assimilation of Immigrants
DESCRIPTION:Jaime Arellano-Bover\n(University of Rome)\n  \n“The Role of Firms in the Assimilation of Immigrants”\n  \nFace-to-face Seminar – Room 15.1.39
URL:https://economics.uc3m.es/event/jaime-arellano-bover/
LOCATION:15.1.39
CATEGORIES:A&E seminar
ATTACH;FMTTYPE=image/jpeg:https://economics.uc3m.es/wp-content/uploads/2023/04/picture_jab.jpg
END:VEVENT
BEGIN:VEVENT
DTSTART;TZID=Europe/Helsinki:20230524T124500
DTEND;TZID=Europe/Helsinki:20230524T140000
DTSTAMP:20260424T203631
CREATED:20230426T122204Z
LAST-MODIFIED:20230516T103037Z
UID:7188-1684932300-1684936800@economics.uc3m.es
SUMMARY:Transition Age Youth in Jail: Mental Illness\, Mental Health Classification\, and Outcomes
DESCRIPTION:Scott Cunningham\n(Baylor University)\n  \n“Transition Age Youth in Jail: Mental Illness\, Mental Health Classification\, and Outcomes”\n  \nFace-to-face Seminar – Room 15.1.39
URL:https://economics.uc3m.es/event/scott-cunningham/
LOCATION:15.1.39
CATEGORIES:A&E seminar
ATTACH;FMTTYPE=image/jpeg:https://economics.uc3m.es/wp-content/uploads/2023/04/aboutme.jpeg
END:VEVENT
BEGIN:VEVENT
DTSTART;TZID=Europe/Helsinki:20230525T124500
DTEND;TZID=Europe/Helsinki:20230525T140000
DTSTAMP:20260424T203631
CREATED:20230426T123133Z
LAST-MODIFIED:20230516T101741Z
UID:7192-1685018700-1685023200@economics.uc3m.es
SUMMARY:Efficiency and Effectiveness of School Capital Investments Across the US
DESCRIPTION:Barbara Biasi\n(Yale School of Management)\n  \n“Efficiency and Effectiveness of School Capital Investments Across the US”\n  \nFace-to-face Seminar – Room 15.1.39
URL:https://economics.uc3m.es/event/barbara-biasi/
LOCATION:15.1.39
CATEGORIES:A&E seminar
ATTACH;FMTTYPE=image/jpeg:https://economics.uc3m.es/wp-content/uploads/2023/04/dsc0917-mod_orig-e1682512281711.jpeg
END:VEVENT
BEGIN:VEVENT
DTSTART;TZID=Europe/Helsinki:20230605T124500
DTEND;TZID=Europe/Helsinki:20230605T140000
DTSTAMP:20260424T203631
CREATED:20230516T124503Z
LAST-MODIFIED:20230516T125416Z
UID:7238-1685969100-1685973600@economics.uc3m.es
SUMMARY:Gender Differences in Management Decisions: Evidence from On-The-Job-Training
DESCRIPTION:Marco Caliendo\n(University of Potsdam)\n  \n“Gender Differences in Management Decisions: Evidence from On-The-Job-Training”\n  \nFace-to-face Seminar – Room 15.1.39
URL:https://economics.uc3m.es/event/marco-caliendo/
LOCATION:15.1.39
CATEGORIES:A&E seminar
ATTACH;FMTTYPE=image/jpeg:https://economics.uc3m.es/wp-content/uploads/2023/05/mc-1024x1024-e1684241095890.jpg
END:VEVENT
BEGIN:VEVENT
DTSTART;TZID=Europe/Helsinki:20230612T124500
DTEND;TZID=Europe/Helsinki:20230612T140000
DTSTAMP:20260424T203631
CREATED:20230531T075741Z
LAST-MODIFIED:20230606T075522Z
UID:7267-1686573900-1686578400@economics.uc3m.es
SUMMARY:Stable marriage\, household consumption and  unobserved match quality
DESCRIPTION:Bram de Rock\n(Université libre de Bruxelles)\n  \n“Stable marriage\, household consumption and unobserved match quality”\n  \nFace-to-face Seminar – Room 15.1.39
URL:https://economics.uc3m.es/event/bram-de-rock/
LOCATION:15.1.39
CATEGORIES:A&E seminar
ATTACH;FMTTYPE=image/jpeg:https://economics.uc3m.es/wp-content/uploads/2023/05/Bram-de-Rock-e1685519847759.jpg
END:VEVENT
BEGIN:VEVENT
DTSTART;TZID=Europe/Helsinki:20230619T124500
DTEND;TZID=Europe/Helsinki:20230619T140000
DTSTAMP:20260424T203631
CREATED:20230531T080335Z
LAST-MODIFIED:20230614T141658Z
UID:7271-1687178700-1687183200@economics.uc3m.es
SUMMARY:Binary Choice with Asymmetric Loss in a Data-Rich Environment: Theory and an Application to Racial Justice
DESCRIPTION:Andrii Babii\n(University of North Carolina)\n  \n“Binary Choice with Asymmetric Loss in a Data-Rich Environment: Theory and an Application to Racial Justice”\n  \nFace-to-face Seminar – Room 15.1.39
URL:https://economics.uc3m.es/event/andrii-babii/
LOCATION:15.1.39
CATEGORIES:A&E seminar
ATTACH;FMTTYPE=image/jpeg:https://economics.uc3m.es/wp-content/uploads/2023/05/photo-e1685520207727.jpg
END:VEVENT
BEGIN:VEVENT
DTSTART;TZID=Europe/Helsinki:20230626T124500
DTEND;TZID=Europe/Helsinki:20230626T140000
DTSTAMP:20260424T203631
CREATED:20230531T080740Z
LAST-MODIFIED:20230622T091041Z
UID:7275-1687783500-1687788000@economics.uc3m.es
SUMMARY:Abortion Legalization and the Fabric of American College Students
DESCRIPTION:Stéphane Mechoulan\n(Dalhousie University)\n  \n“Abortion Legalization and the Fabric of American College Students”\n  \nFace-to-face Seminar – Room 15.1.39
URL:https://economics.uc3m.es/event/stephane-mechoulan/
LOCATION:15.1.39
CATEGORIES:A&E seminar
ATTACH;FMTTYPE=image/jpeg:https://economics.uc3m.es/wp-content/uploads/2023/05/mechoulan-e1685520451906.jpg
END:VEVENT
BEGIN:VEVENT
DTSTART;TZID=Europe/Helsinki:20230906T124500
DTEND;TZID=Europe/Helsinki:20230906T140000
DTSTAMP:20260424T203631
CREATED:20230801T091457Z
LAST-MODIFIED:20230904T072006Z
UID:7360-1694004300-1694008800@economics.uc3m.es
SUMMARY:Applications of Mellin-Barnes Integrals to Deconvolution Problems
DESCRIPTION:Henrik Kaiser\n(Justus-Liebig-Universität Gießen)\n  \n“Applications of Mellin-Barnes Integrals to Deconvolution Problems”\n  \nFace-to-face Seminar – Room 15.1.39
URL:https://economics.uc3m.es/event/henrik-kaiser/
LOCATION:15.1.39
CATEGORIES:A&E seminar
ATTACH;FMTTYPE=image/jpeg:https://economics.uc3m.es/wp-content/uploads/2023/08/30555507-giloka-2312-kaiser-danie-4c-2Nfe-e1690881291216.jpg
END:VEVENT
BEGIN:VEVENT
DTSTART;TZID=Europe/Helsinki:20230911T124500
DTEND;TZID=Europe/Helsinki:20230911T140000
DTSTAMP:20260424T203631
CREATED:20230801T115447Z
LAST-MODIFIED:20230801T115957Z
UID:7364-1694436300-1694440800@economics.uc3m.es
SUMMARY:The Maximum of the Periodogram of a Sequence of Functional Data
DESCRIPTION:Vaidotas Characiejus\n(University of Southern Denmark)\n  \n“The Maximum of the Periodogram of a Sequence of Functional Data”\n  \nFace-to-face Seminar – Room 15.1.39
URL:https://economics.uc3m.es/event/vaidotas-characiejus/
LOCATION:15.1.39
CATEGORIES:A&E seminar
ATTACH;FMTTYPE=image/jpeg:https://economics.uc3m.es/wp-content/uploads/2023/08/photo-e1690890869377.jpg
END:VEVENT
END:VCALENDAR