BEGIN:VCALENDAR
VERSION:2.0
PRODID:-//Department of Economics Universidad Carlos III - ECPv6.15.19//NONSGML v1.0//EN
CALSCALE:GREGORIAN
METHOD:PUBLISH
X-WR-CALNAME:Department of Economics Universidad Carlos III
X-ORIGINAL-URL:https://economics.uc3m.es
X-WR-CALDESC:Events for Department of Economics Universidad Carlos III
REFRESH-INTERVAL;VALUE=DURATION:PT1H
X-Robots-Tag:noindex
X-PUBLISHED-TTL:PT1H
BEGIN:VTIMEZONE
TZID:Europe/Helsinki
BEGIN:DAYLIGHT
TZOFFSETFROM:+0200
TZOFFSETTO:+0300
TZNAME:EEST
DTSTART:20210328T010000
END:DAYLIGHT
BEGIN:STANDARD
TZOFFSETFROM:+0300
TZOFFSETTO:+0200
TZNAME:EET
DTSTART:20211031T010000
END:STANDARD
BEGIN:DAYLIGHT
TZOFFSETFROM:+0200
TZOFFSETTO:+0300
TZNAME:EEST
DTSTART:20220327T010000
END:DAYLIGHT
BEGIN:STANDARD
TZOFFSETFROM:+0300
TZOFFSETTO:+0200
TZNAME:EET
DTSTART:20221030T010000
END:STANDARD
BEGIN:DAYLIGHT
TZOFFSETFROM:+0200
TZOFFSETTO:+0300
TZNAME:EEST
DTSTART:20230326T010000
END:DAYLIGHT
BEGIN:STANDARD
TZOFFSETFROM:+0300
TZOFFSETTO:+0200
TZNAME:EET
DTSTART:20231029T010000
END:STANDARD
END:VTIMEZONE
BEGIN:VEVENT
DTSTART;TZID=Europe/Helsinki:20221005T124500
DTEND;TZID=Europe/Helsinki:20221005T140000
DTSTAMP:20260424T152704
CREATED:20220905T113834Z
LAST-MODIFIED:20221004T092952Z
UID:6294-1664973900-1664978400@economics.uc3m.es
SUMMARY:Do More School Resources Increase Learning Outcomes? Evidence from an Extended School-Day Reform
DESCRIPTION:Jorge Aguero\n(University of Connecticut)\n  \n“Do More School Resources Increase Learning Outcomes? Evidence from an Extended School-Day Reform” (with Marta Favara\, Alex Sánchez and Catherine)\n  \nFace-to-face seminar – Room 15.1.39
URL:https://economics.uc3m.es/event/jorge-aguero/
LOCATION:15.1.39
CATEGORIES:A&E seminar
ATTACH;FMTTYPE=image/jpeg:https://economics.uc3m.es/wp-content/uploads/2022/09/Jorge-Agueero-690x468-e1662377897533.jpg
END:VEVENT
END:VCALENDAR