BEGIN:VCALENDAR
VERSION:2.0
PRODID:-//Department of Economics Universidad Carlos III - ECPv6.15.19//NONSGML v1.0//EN
CALSCALE:GREGORIAN
METHOD:PUBLISH
X-ORIGINAL-URL:https://economics.uc3m.es
X-WR-CALDESC:Events for Department of Economics Universidad Carlos III
REFRESH-INTERVAL;VALUE=DURATION:PT1H
X-Robots-Tag:noindex
X-PUBLISHED-TTL:PT1H
BEGIN:VTIMEZONE
TZID:Europe/Helsinki
BEGIN:DAYLIGHT
TZOFFSETFROM:+0200
TZOFFSETTO:+0300
TZNAME:EEST
DTSTART:20210328T010000
END:DAYLIGHT
BEGIN:STANDARD
TZOFFSETFROM:+0300
TZOFFSETTO:+0200
TZNAME:EET
DTSTART:20211031T010000
END:STANDARD
BEGIN:DAYLIGHT
TZOFFSETFROM:+0200
TZOFFSETTO:+0300
TZNAME:EEST
DTSTART:20220327T010000
END:DAYLIGHT
BEGIN:STANDARD
TZOFFSETFROM:+0300
TZOFFSETTO:+0200
TZNAME:EET
DTSTART:20221030T010000
END:STANDARD
BEGIN:DAYLIGHT
TZOFFSETFROM:+0200
TZOFFSETTO:+0300
TZNAME:EEST
DTSTART:20230326T010000
END:DAYLIGHT
BEGIN:STANDARD
TZOFFSETFROM:+0300
TZOFFSETTO:+0200
TZNAME:EET
DTSTART:20231029T010000
END:STANDARD
END:VTIMEZONE
BEGIN:VEVENT
DTSTART;TZID=Europe/Helsinki:20220328T190000
DTEND;TZID=Europe/Helsinki:20220328T203000
DTSTAMP:20260424T233018
CREATED:20220221T111907Z
LAST-MODIFIED:20220321T163550Z
UID:5891-1648494000-1648499400@economics.uc3m.es
SUMMARY:Inequality and the Covid Crisis
DESCRIPTION:Richard Blundell\n(UCL)\n  \n“Inequality and the Covid Crisis”\n  \nFundación Ramón Areces – Salón de actos\nClick here for more information about the seminar
URL:https://economics.uc3m.es/event/richard-blundell/
LOCATION:Fundación Ramón Areces
CATEGORIES:A&E seminar
ATTACH;FMTTYPE=image/jpeg:https://economics.uc3m.es/wp-content/uploads/2022/02/Richard-B-e1647876943393.jpg
END:VEVENT
END:VCALENDAR