BEGIN:VCALENDAR
VERSION:2.0
PRODID:-//Department of Economics Universidad Carlos III - ECPv6.15.19//NONSGML v1.0//EN
CALSCALE:GREGORIAN
METHOD:PUBLISH
X-WR-CALNAME:Department of Economics Universidad Carlos III
X-ORIGINAL-URL:https://economics.uc3m.es
X-WR-CALDESC:Events for Department of Economics Universidad Carlos III
REFRESH-INTERVAL;VALUE=DURATION:PT1H
X-Robots-Tag:noindex
X-PUBLISHED-TTL:PT1H
BEGIN:VTIMEZONE
TZID:Europe/Helsinki
BEGIN:DAYLIGHT
TZOFFSETFROM:+0200
TZOFFSETTO:+0300
TZNAME:EEST
DTSTART:20200329T010000
END:DAYLIGHT
BEGIN:STANDARD
TZOFFSETFROM:+0300
TZOFFSETTO:+0200
TZNAME:EET
DTSTART:20201025T010000
END:STANDARD
BEGIN:DAYLIGHT
TZOFFSETFROM:+0200
TZOFFSETTO:+0300
TZNAME:EEST
DTSTART:20210328T010000
END:DAYLIGHT
BEGIN:STANDARD
TZOFFSETFROM:+0300
TZOFFSETTO:+0200
TZNAME:EET
DTSTART:20211031T010000
END:STANDARD
BEGIN:DAYLIGHT
TZOFFSETFROM:+0200
TZOFFSETTO:+0300
TZNAME:EEST
DTSTART:20220327T010000
END:DAYLIGHT
BEGIN:STANDARD
TZOFFSETFROM:+0300
TZOFFSETTO:+0200
TZNAME:EET
DTSTART:20221030T010000
END:STANDARD
END:VTIMEZONE
BEGIN:VEVENT
DTSTART;TZID=Europe/Helsinki:20210301T124500
DTEND;TZID=Europe/Helsinki:20210301T140000
DTSTAMP:20260425T144313
CREATED:20210219T094909Z
LAST-MODIFIED:20210225T124939Z
UID:4601-1614602700-1614607200@economics.uc3m.es
SUMMARY:Bias-Aware Inference in Fuzzy Regression Discontinuity Designs
DESCRIPTION:Christoph Rothe\n(University of Mannheim)\n  \n“Bias-Aware Inference in Fuzzy Regression Discontinuity Designs” (joint with Claudia Noack)\n  \nVirtual seminar – Join the session here
URL:https://economics.uc3m.es/event/christoph-rothe/
LOCATION:Virtual Seminar
CATEGORIES:A&E seminar
ATTACH;FMTTYPE=image/jpeg:https://economics.uc3m.es/wp-content/uploads/2020/02/csm_web_DSC_5081_hg_ce3407fe04-e1581507851851.jpg
END:VEVENT
BEGIN:VEVENT
DTSTART;TZID=Europe/Helsinki:20210308T171500
DTEND;TZID=Europe/Helsinki:20210308T181500
DTSTAMP:20260425T144313
CREATED:20210219T101801Z
LAST-MODIFIED:20210308T132646Z
UID:4605-1615223700-1615227300@economics.uc3m.es
SUMMARY:Vector copulas and vector sklar theorem
DESCRIPTION:Yanqin Fan\n(University of Washington)\n  \n“Vector copulas and vector sklar theorem” (joint with Marc Henry)\n  \nVirtual seminar – Join the session here
URL:https://economics.uc3m.es/event/vector-copulas-and-vector-sklar-theorem/
LOCATION:Virtual Seminar
CATEGORIES:A&E seminar
ATTACH;FMTTYPE=image/jpeg:https://economics.uc3m.es/wp-content/uploads/2021/02/fanyanqin.jpg
END:VEVENT
BEGIN:VEVENT
DTSTART;TZID=Europe/Helsinki:20210322T124500
DTEND;TZID=Europe/Helsinki:20210322T140000
DTSTAMP:20260425T144313
CREATED:20210303T092431Z
LAST-MODIFIED:20210318T103351Z
UID:4649-1616417100-1616421600@economics.uc3m.es
SUMMARY:Own motivation\, Peer Motivation and Educational Success
DESCRIPTION:Jan Bietenbeck\n(Lund University)\n  \nOwn motivation\, Peer Motivation and Educational Success\n  \nVirtual seminar – Join the session here
URL:https://economics.uc3m.es/event/jan-bietenbeck/
LOCATION:Virtual Seminar
CATEGORIES:A&E seminar
ATTACH;FMTTYPE=image/jpeg:https://economics.uc3m.es/wp-content/uploads/2021/03/nek-jbk-e1614759858763.jpg
END:VEVENT
END:VCALENDAR