BEGIN:VCALENDAR
VERSION:2.0
PRODID:-//Department of Economics Universidad Carlos III - ECPv6.15.19//NONSGML v1.0//EN
CALSCALE:GREGORIAN
METHOD:PUBLISH
X-WR-CALNAME:Department of Economics Universidad Carlos III
X-ORIGINAL-URL:https://economics.uc3m.es
X-WR-CALDESC:Events for Department of Economics Universidad Carlos III
REFRESH-INTERVAL;VALUE=DURATION:PT1H
X-Robots-Tag:noindex
X-PUBLISHED-TTL:PT1H
BEGIN:VTIMEZONE
TZID:Europe/Helsinki
BEGIN:DAYLIGHT
TZOFFSETFROM:+0200
TZOFFSETTO:+0300
TZNAME:EEST
DTSTART:20210328T010000
END:DAYLIGHT
BEGIN:STANDARD
TZOFFSETFROM:+0300
TZOFFSETTO:+0200
TZNAME:EET
DTSTART:20211031T010000
END:STANDARD
BEGIN:DAYLIGHT
TZOFFSETFROM:+0200
TZOFFSETTO:+0300
TZNAME:EEST
DTSTART:20220327T010000
END:DAYLIGHT
BEGIN:STANDARD
TZOFFSETFROM:+0300
TZOFFSETTO:+0200
TZNAME:EET
DTSTART:20221030T010000
END:STANDARD
BEGIN:DAYLIGHT
TZOFFSETFROM:+0200
TZOFFSETTO:+0300
TZNAME:EEST
DTSTART:20230326T010000
END:DAYLIGHT
BEGIN:STANDARD
TZOFFSETFROM:+0300
TZOFFSETTO:+0200
TZNAME:EET
DTSTART:20231029T010000
END:STANDARD
END:VTIMEZONE
BEGIN:VEVENT
DTSTART;TZID=Europe/Helsinki:20220519T124500
DTEND;TZID=Europe/Helsinki:20220519T140000
DTSTAMP:20260425T131412
CREATED:20220421T105110Z
LAST-MODIFIED:20220511T115852Z
UID:6066-1652964300-1652968800@economics.uc3m.es
SUMMARY:A Labor Market Sorting Model of Scarring and Hysteresis
DESCRIPTION:Edoardo Maria Acabbi\n(UC3M)\n  \n“A Labor Market Sorting Model of Scarring and Hysteresis”\n  \nFace-to-face seminar – Room 15.1.39
URL:https://economics.uc3m.es/event/edoardo-maria-acabbi/
LOCATION:15.1.39
CATEGORIES:Macroeconomics Seminar
ATTACH;FMTTYPE=image/png:https://economics.uc3m.es/wp-content/uploads/2022/04/perfil-1599207750-e1650538264676.png
END:VEVENT
END:VCALENDAR