BEGIN:VCALENDAR
VERSION:2.0
PRODID:-//Department of Economics Universidad Carlos III - ECPv6.15.19//NONSGML v1.0//EN
CALSCALE:GREGORIAN
METHOD:PUBLISH
X-WR-CALNAME:Department of Economics Universidad Carlos III
X-ORIGINAL-URL:https://economics.uc3m.es
X-WR-CALDESC:Events for Department of Economics Universidad Carlos III
REFRESH-INTERVAL;VALUE=DURATION:PT1H
X-Robots-Tag:noindex
X-PUBLISHED-TTL:PT1H
BEGIN:VTIMEZONE
TZID:Europe/Helsinki
BEGIN:DAYLIGHT
TZOFFSETFROM:+0200
TZOFFSETTO:+0300
TZNAME:EEST
DTSTART:20200329T010000
END:DAYLIGHT
BEGIN:STANDARD
TZOFFSETFROM:+0300
TZOFFSETTO:+0200
TZNAME:EET
DTSTART:20201025T010000
END:STANDARD
BEGIN:DAYLIGHT
TZOFFSETFROM:+0200
TZOFFSETTO:+0300
TZNAME:EEST
DTSTART:20210328T010000
END:DAYLIGHT
BEGIN:STANDARD
TZOFFSETFROM:+0300
TZOFFSETTO:+0200
TZNAME:EET
DTSTART:20211031T010000
END:STANDARD
BEGIN:DAYLIGHT
TZOFFSETFROM:+0200
TZOFFSETTO:+0300
TZNAME:EEST
DTSTART:20220327T010000
END:DAYLIGHT
BEGIN:STANDARD
TZOFFSETFROM:+0300
TZOFFSETTO:+0200
TZNAME:EET
DTSTART:20221030T010000
END:STANDARD
END:VTIMEZONE
BEGIN:VEVENT
DTSTART;TZID=Europe/Helsinki:20211102T124500
DTEND;TZID=Europe/Helsinki:20211102T140000
DTSTAMP:20260423T014401
CREATED:20210930T150126Z
LAST-MODIFIED:20211115T130428Z
UID:5387-1635857100-1635861600@economics.uc3m.es
SUMMARY:The Impact of Bank Competition on Loan Applications
DESCRIPTION:Ben Hemingway\n(Bank of Lithuania)\n  \n“The Impact of Bank Competition on Loan Applications”\n  \nFace-to-face seminar – Room 18.0.A13\nOr join the virtual session here
URL:https://economics.uc3m.es/event/ben-hemingway/
LOCATION:18.0.A13
CATEGORIES:Microeconomics Seminar
ATTACH;FMTTYPE=image/jpeg:https://economics.uc3m.es/wp-content/uploads/2021/09/author.jpg
END:VEVENT
END:VCALENDAR