BEGIN:VCALENDAR
VERSION:2.0
PRODID:-//Department of Economics Universidad Carlos III - ECPv6.15.19//NONSGML v1.0//EN
CALSCALE:GREGORIAN
METHOD:PUBLISH
X-ORIGINAL-URL:https://economics.uc3m.es
X-WR-CALDESC:Events for Department of Economics Universidad Carlos III
REFRESH-INTERVAL;VALUE=DURATION:PT1H
X-Robots-Tag:noindex
X-PUBLISHED-TTL:PT1H
BEGIN:VTIMEZONE
TZID:Europe/Helsinki
BEGIN:DAYLIGHT
TZOFFSETFROM:+0200
TZOFFSETTO:+0300
TZNAME:EEST
DTSTART:20200329T010000
END:DAYLIGHT
BEGIN:STANDARD
TZOFFSETFROM:+0300
TZOFFSETTO:+0200
TZNAME:EET
DTSTART:20201025T010000
END:STANDARD
BEGIN:DAYLIGHT
TZOFFSETFROM:+0200
TZOFFSETTO:+0300
TZNAME:EEST
DTSTART:20210328T010000
END:DAYLIGHT
BEGIN:STANDARD
TZOFFSETFROM:+0300
TZOFFSETTO:+0200
TZNAME:EET
DTSTART:20211031T010000
END:STANDARD
BEGIN:DAYLIGHT
TZOFFSETFROM:+0200
TZOFFSETTO:+0300
TZNAME:EEST
DTSTART:20220327T010000
END:DAYLIGHT
BEGIN:STANDARD
TZOFFSETFROM:+0300
TZOFFSETTO:+0200
TZNAME:EET
DTSTART:20221030T010000
END:STANDARD
END:VTIMEZONE
BEGIN:VEVENT
DTSTART;TZID=Europe/Helsinki:20211021T100000
DTEND;TZID=Europe/Helsinki:20211021T120000
DTSTAMP:20260422T201531
CREATED:20210915T122141Z
LAST-MODIFIED:20211020T145920Z
UID:5324-1634810400-1634817600@economics.uc3m.es
SUMMARY:Shadow Federal Funds Rate
DESCRIPTION:Mariano Kulish\n(University of Sydney)\n  \n“Shadow Federal Funds Rate”\n  \nVirtual seminar – Join the session here
URL:https://economics.uc3m.es/event/mariano-kulish/
LOCATION:Virtual Seminar
CATEGORIES:Macroeconomics Seminar
ATTACH;FMTTYPE=image/png:https://economics.uc3m.es/wp-content/uploads/2021/09/Mariano_photot-e1631707769100.png
END:VEVENT
END:VCALENDAR