BEGIN:VCALENDAR
VERSION:2.0
PRODID:-//Department of Economics Universidad Carlos III - ECPv6.15.19//NONSGML v1.0//EN
CALSCALE:GREGORIAN
METHOD:PUBLISH
X-ORIGINAL-URL:https://economics.uc3m.es
X-WR-CALDESC:Events for Department of Economics Universidad Carlos III
REFRESH-INTERVAL;VALUE=DURATION:PT1H
X-Robots-Tag:noindex
X-PUBLISHED-TTL:PT1H
BEGIN:VTIMEZONE
TZID:Europe/Helsinki
BEGIN:DAYLIGHT
TZOFFSETFROM:+0200
TZOFFSETTO:+0300
TZNAME:EEST
DTSTART:20200329T010000
END:DAYLIGHT
BEGIN:STANDARD
TZOFFSETFROM:+0300
TZOFFSETTO:+0200
TZNAME:EET
DTSTART:20201025T010000
END:STANDARD
BEGIN:DAYLIGHT
TZOFFSETFROM:+0200
TZOFFSETTO:+0300
TZNAME:EEST
DTSTART:20210328T010000
END:DAYLIGHT
BEGIN:STANDARD
TZOFFSETFROM:+0300
TZOFFSETTO:+0200
TZNAME:EET
DTSTART:20211031T010000
END:STANDARD
BEGIN:DAYLIGHT
TZOFFSETFROM:+0200
TZOFFSETTO:+0300
TZNAME:EEST
DTSTART:20220327T010000
END:DAYLIGHT
BEGIN:STANDARD
TZOFFSETFROM:+0300
TZOFFSETTO:+0200
TZNAME:EET
DTSTART:20221030T010000
END:STANDARD
END:VTIMEZONE
BEGIN:VEVENT
DTSTART;TZID=Europe/Helsinki:20211018T124500
DTEND;TZID=Europe/Helsinki:20211018T140000
DTSTAMP:20260422T214916
CREATED:20210915T115859Z
LAST-MODIFIED:20211014T075406Z
UID:5306-1634561100-1634565600@economics.uc3m.es
SUMMARY:Gender differences in high-stakes performance and college admission policies
DESCRIPTION:Andreu Arenas Jal\n(University of Barcelona)\n  \n“Gender differences in high-stakes performance and college admission policies” (joint with Caterina Calsamiglia)\n  \nFace-to-face seminar – Room 18.0.A13\nOr join the virtual session here
URL:https://economics.uc3m.es/event/andreu-arenas-jal/
LOCATION:18.0.A13
CATEGORIES:A&E seminar
ATTACH;FMTTYPE=image/jpeg:https://economics.uc3m.es/wp-content/uploads/2021/09/EmbeddedImage-1-e1631707123354.jpg
END:VEVENT
END:VCALENDAR