BEGIN:VCALENDAR
VERSION:2.0
PRODID:-//Department of Economics Universidad Carlos III - ECPv6.15.19//NONSGML v1.0//EN
CALSCALE:GREGORIAN
METHOD:PUBLISH
X-WR-CALNAME:Department of Economics Universidad Carlos III
X-ORIGINAL-URL:https://economics.uc3m.es
X-WR-CALDESC:Events for Department of Economics Universidad Carlos III
REFRESH-INTERVAL;VALUE=DURATION:PT1H
X-Robots-Tag:noindex
X-PUBLISHED-TTL:PT1H
BEGIN:VTIMEZONE
TZID:UTC
BEGIN:STANDARD
TZOFFSETFROM:+0000
TZOFFSETTO:+0000
TZNAME:UTC
DTSTART:20170101T000000
END:STANDARD
END:VTIMEZONE
BEGIN:VEVENT
DTSTART;TZID=UTC:20180214T131500
DTEND;TZID=UTC:20180214T143000
DTSTAMP:20260425T223344
CREATED:20180208T070551Z
LAST-MODIFIED:20180301T093248Z
UID:541-1518614100-1518618600@economics.uc3m.es
SUMMARY:"Searching to Avoid Regret: Experimental Evidence and an Application to Charitable Giving"
DESCRIPTION:  \nTanushree Jhunjhunwala.\n(The Ohio State University).\n  \n“Searching to Avoid Regret: Experimental Evidence and an Application to Charitable Giving”.\n  \nAttendance Confirmation\n 
URL:https://economics.uc3m.es/event/541/
ATTACH;FMTTYPE=image/jpeg:https://economics.uc3m.es/wp-content/uploads/2018/02/TanushreeJhun.jpg
END:VEVENT
END:VCALENDAR